BEGIN:VCALENDAR
VERSION:2.0
PRODID:-//Guía Oficial de Santander l Turismo I Descubre Santander - ECPv6.15.20//NONSGML v1.0//EN
CALSCALE:GREGORIAN
METHOD:PUBLISH
X-ORIGINAL-URL:https://descubresantander.es
X-WR-CALDESC:Eventos para Guía Oficial de Santander l Turismo I Descubre Santander
REFRESH-INTERVAL;VALUE=DURATION:PT1H
X-Robots-Tag:noindex
X-PUBLISHED-TTL:PT1H
BEGIN:VTIMEZONE
TZID:Europe/Madrid
BEGIN:DAYLIGHT
TZOFFSETFROM:+0100
TZOFFSETTO:+0200
TZNAME:CEST
DTSTART:20250330T010000
END:DAYLIGHT
BEGIN:STANDARD
TZOFFSETFROM:+0200
TZOFFSETTO:+0100
TZNAME:CET
DTSTART:20251026T010000
END:STANDARD
BEGIN:DAYLIGHT
TZOFFSETFROM:+0100
TZOFFSETTO:+0200
TZNAME:CEST
DTSTART:20260329T010000
END:DAYLIGHT
BEGIN:STANDARD
TZOFFSETFROM:+0200
TZOFFSETTO:+0100
TZNAME:CET
DTSTART:20261025T010000
END:STANDARD
BEGIN:DAYLIGHT
TZOFFSETFROM:+0100
TZOFFSETTO:+0200
TZNAME:CEST
DTSTART:20270328T010000
END:DAYLIGHT
BEGIN:STANDARD
TZOFFSETFROM:+0200
TZOFFSETTO:+0100
TZNAME:CET
DTSTART:20271031T010000
END:STANDARD
END:VTIMEZONE
BEGIN:VEVENT
DTSTART;TZID=Europe/Madrid:20260326T183000
DTEND;TZID=Europe/Madrid:20260326T183000
DTSTAMP:20260420T153932
CREATED:20260210T162922Z
LAST-MODIFIED:20260210T162933Z
UID:10007609-1774549800-1774549800@descubresantander.es
SUMMARY:Charla “Vibraciones que sanan”\, con el pianista profesional Mario García
DESCRIPTION:¿DE QUÉ TRATA “Charla “Vibraciones que sanan”\, con el pianista profesional Mario García”?\n  \nLa programación cultural de la Galería DiCappo Music continuará el jueves 26 de marzo\, a las 18:30 horas\, con la charla “Vibraciones que sanan”\, centrada en el potencial terapéutico de la música en personas con Trastorno del Espectro Autista (TEA). \nEn esta sesión se expondrán experiencias reales en las que la práctica instrumental ha favorecido mejoras significativas en las capacidades de comunicación e interacción social. El pianista profesional Mario García\, con amplia experiencia en la enseñanza musical a personas con TEA\, compartirá las técnicas más eficaces y los principales beneficios de la estimulación musical\, acompañado por el músico y multinstrumentista Mario Capodicasa\, quien también ha trabajado en este ámbito. \nDiCappo Music es una galería musical ubicada en el corazón de Santander que nace con una vocación clara: convertirse en un espacio de referencia para la música sinfónica\, la creación artesanal de instrumentos y el encuentro cultural entre\nintérpretes\, estudiantes y amantes de la música. \nMás que una tienda\, DiCappo es un proyecto artístico y cultural vivo\, donde conviven instrumentos de cuerda y viento diseñados bajo criterios profesionales\, con la celebración de recitales\, clases magistrales\, charlas y actividades que fomentan el pensamiento musical\, la escucha activa y la excelencia artística. El proyecto está liderado por el músico y multinstrumentista Mario Capodicasa. \n  \n¡Disfruta de los “Charla “Vibraciones que sanan”\, con el pianista profesional Mario García”!\nDescubre Cantabria informa de que los diferentes eventos publicados se ofrecen a modo informativo\, no siendo Descubre Cantabria responsable de los problemas o daños causados por erratas o incorrecciones de los mismos.
URL:https://descubresantander.es/evento/charla-vibraciones-que-sanan-con-el-pianista-profesional-mario-garcia/
LOCATION:Galeria DiCappo Music\, Calle Via Cornelia 37\, Santander\, Cantabria\, 39010\, España
CATEGORIES:Música
ATTACH;FMTTYPE=image/webp:https://descubresantander.es/wp-content/uploads/2026/02/eventos-santander-charla-vibraciones-que-sanan_11zon.webp
END:VEVENT
BEGIN:VEVENT
DTSTART;TZID=Europe/Madrid:20260226T183000
DTEND;TZID=Europe/Madrid:20260226T183000
DTSTAMP:20260420T153932
CREATED:20260209T172133Z
LAST-MODIFIED:20260209T172210Z
UID:10007501-1772130600-1772130600@descubresantander.es
SUMMARY:Charla Resonancia emocional con Pilar Chacón
DESCRIPTION:¿DE QUÉ TRATA “Charla Resonancia emocional con Pilar Chacón”?\n  \nLa galería musical DiCappo Music inicia el año con una nueva programación cultural. \nEl jueves 26 de febrero\, a las 18:30 horas\, se ofrecerá la charla “Resonancia emocional”\, impartida por la psicóloga y música Pilar Chacón. Esta sesión abordará la importancia de la psicología en la vida del músico\, analizando el impacto emocional y social de la música tanto en sentido positivo como negativo. \nDurante la charla se tratarán aspectos como la gestión del estrés ante conciertos\, audiciones y exámenes\, la influencia de la música en la vida cotidiana y la reacción del cerebro ante las vibraciones sonoras\, ofreciendo una mirada integradora entre música\, mente y emoción. \nDiCappo Music es una galería musical ubicada en el corazón de Santander que nace con una vocación clara: convertirse en un espacio de referencia para la música sinfónica\, la creación artesanal de instrumentos y el encuentro cultural entre\nintérpretes\, estudiantes y amantes de la música. \nMás que una tienda\, DiCappo es un proyecto artístico y cultural vivo\, donde conviven instrumentos de cuerda y viento diseñados bajo criterios profesionales\, con la celebración de recitales\, clases magistrales\, charlas y actividades que fomentan el pensamiento musical\, la escucha activa y la excelencia artística. El proyecto está liderado por el músico y multinstrumentista Mario Capodicasa. \n  \n¡Disfruta de los “Charla Resonancia emocional con Pilar Chacón”!\nDescubre Cantabria informa de que los diferentes eventos publicados se ofrecen a modo informativo\, no siendo Descubre Cantabria responsable de los problemas o daños causados por erratas o incorrecciones de los mismos.
URL:https://descubresantander.es/evento/charla-resonancia-emocional-con-pilar-chacon/
LOCATION:Galeria DiCappo Music\, Calle Via Cornelia 37\, Santander\, Cantabria\, 39010\, España
CATEGORIES:Música
ATTACH;FMTTYPE=image/webp:https://descubresantander.es/wp-content/uploads/2026/02/eventos-santander-charla-resonancia-emocional_11zon.webp
END:VEVENT
END:VCALENDAR