BEGIN:VCALENDAR
VERSION:2.0
PRODID:-//Guía Oficial de Santander l Turismo I Descubre Santander - ECPv6.15.20//NONSGML v1.0//EN
CALSCALE:GREGORIAN
METHOD:PUBLISH
X-ORIGINAL-URL:https://descubresantander.es
X-WR-CALDESC:Eventos para Guía Oficial de Santander l Turismo I Descubre Santander
REFRESH-INTERVAL;VALUE=DURATION:PT1H
X-Robots-Tag:noindex
X-PUBLISHED-TTL:PT1H
BEGIN:VTIMEZONE
TZID:Europe/Madrid
BEGIN:DAYLIGHT
TZOFFSETFROM:+0100
TZOFFSETTO:+0200
TZNAME:CEST
DTSTART:20240331T010000
END:DAYLIGHT
BEGIN:STANDARD
TZOFFSETFROM:+0200
TZOFFSETTO:+0100
TZNAME:CET
DTSTART:20241027T010000
END:STANDARD
BEGIN:DAYLIGHT
TZOFFSETFROM:+0100
TZOFFSETTO:+0200
TZNAME:CEST
DTSTART:20250330T010000
END:DAYLIGHT
BEGIN:STANDARD
TZOFFSETFROM:+0200
TZOFFSETTO:+0100
TZNAME:CET
DTSTART:20251026T010000
END:STANDARD
BEGIN:DAYLIGHT
TZOFFSETFROM:+0100
TZOFFSETTO:+0200
TZNAME:CEST
DTSTART:20260329T010000
END:DAYLIGHT
BEGIN:STANDARD
TZOFFSETFROM:+0200
TZOFFSETTO:+0100
TZNAME:CET
DTSTART:20261025T010000
END:STANDARD
END:VTIMEZONE
BEGIN:VEVENT
DTSTART;TZID=Europe/Madrid:20251105T170000
DTEND;TZID=Europe/Madrid:20251105T170000
DTSTAMP:20260420T140235
CREATED:20251030T165038Z
LAST-MODIFIED:20251030T165106Z
UID:10007105-1762362000-1762362000@descubresantander.es
SUMMARY:Nuevos espacios dialógicos conferencia sobre danza y arquitectura
DESCRIPTION:¿DE QUÉ TRATA “Nuevos espacios dialógicos conferencia sobre danza y arquitectura”?\n  \n\n\n\n\n\n\n\n\n\n\n\nEl miércoles 5 de noviembre a las 17h en el Colegio Oficial de Arquitectos de Cantabria\, Marta Llorente presentará la conferencia y coloquio “Nuevos espacios dialógicos: Fôret. Anne Teresa de Keersmaeker/ Némo Flouret en el Louvre”. \nEsta conferencia presenta la pieza de danza\, “site specific”\, estrenada en diciembre de 2022 por Anne Teresa de Keersmaeker y Némo Flouret\, como un ejemplo más dentro de la obra de ATDK\, donde de nuevo se pone de manifiesto la noción de espacio dialógico. En ella continúa y profundiza su investigación de la interacción social\, en un ámbito que acoge el diálogo entre disciplinas de manera fluida: “Fôret”. La arquitectura\, la danza y la pintura se entrelazan en una polifonía que hechiza a un público que transita por ellas y se convierte en un actor más. \nMarta Llorente es licenciada en Arquitectura Superior en las especialidades de edificación y urbanismo por la Universidad Politécnica de Madrid ETSAM 1992-1999\, intercalando dos años de estudios en las Universidades técnicas alemanas RWTHA Aachen(1995) y TU Berlin (1997). \nDesde 2000 compagina su labor como arquitecta con su interés por la danza y las artes escénicas\, Su gran interés por la interdisciplinaridad\, la lleva a investigar en varios campos y buscar los lazos de unión entre danza\, arquitectura\, pintura\, escenografía\, video. Actualmente doctorando escribiendo Tesis Doctoral sobre la relación Espacio- Danza/Dialogía\, Dpto. de Proyectos Arquitectónicos de la UPV. \nEl Festival Hacer Ver Mover Santander es un proyecto de Movimiento en Red\, dirigido por Rafael de la Lastra y Beatriz Palenzuela con la financiación de la Fundación Santander Creativa dentro de la convocatoria Cultura Emprende 25 y con la colaboración del Centro Botín\, Colegio Oficial de Arquitectos de Cantabria\, Fábrica de Creación Santander\, Biblioteca Central de Cantabria y Archivo de la Autoridad Portuaria de Santander. \n  \n\n\n\n\n¡Disfruta de los “Nuevos espacios dialógicos conferencia sobre danza y arquitectura”!\nDescubre Santander informa de que los diferentes eventos publicados se ofrecen a modo informativo\, no siendo Descubre Santander responsable de los problemas o daños causados por erratas o incorrecciones de los mismos.
URL:https://descubresantander.es/evento/nuevos-espacios-dialogicos-conferencia-sobre-danza-y-arquitectura/
LOCATION:Espacio Ricardo Lorenzo (COACAN)\, Calle Aguayos\, 5\, Santander\, Cantabria\, 39003\, España
CATEGORIES:Artes escénicas
ATTACH;FMTTYPE=image/webp:https://descubresantander.es/wp-content/uploads/2025/10/eventos-santander-nuevos-espacios-dialogicos-conferencia-coloquio-sobre-danza-y-arquitectura_11zon.webp
END:VEVENT
BEGIN:VEVENT
DTSTART;TZID=Europe/Madrid:20251018T190000
DTEND;TZID=Europe/Madrid:20251018T190000
DTSTAMP:20260420T140235
CREATED:20251013T135757Z
LAST-MODIFIED:20251013T135808Z
UID:10007029-1760814000-1760814000@descubresantander.es
SUMMARY:Clausura de la VI Semana de Arquitectura con el concierto Beatlemanía 2025
DESCRIPTION:¿DE QUÉ TRATA “Clausura de la VI Semana de Arquitectura con el concierto Beatlemanía 2025”?\n  \n\n\n\n\n\n\n\n\n\n\n\nEl Colegio Oficial de Arquitectos de Cantabria\, COACan\, celebra la sexta edición de su Semana de la Arquitectura. Se trata de una iniciativa que pretende acercar la arquitectura a la sociedad\, fomentar el intercambio de experiencias y proyectos entre profesionales y poner en valor el patrimonio arquitectónico más cercano. \nLos 23 proyectos que se han presentado al premio Ortega-Alloza de arquitectura\, que celebra su XXI edición\, se podrán conocer a través de una exposición que se podrá visitar hasta el sábado 18. La muestra se clausurará con el concierto Beatlemanía 2025\, en colaboración con Beatles Soul Club. \n  \n\n\n\n\n¡Disfruta de los “Clausura de la VI Semana de Arquitectura con el concierto Beatlemanía 2025”!\nDescubre Santander informa de que los diferentes eventos publicados se ofrecen a modo informativo\, no siendo Descubre Santander responsable de los problemas o daños causados por erratas o incorrecciones de los mismos.
URL:https://descubresantander.es/evento/clausura-de-la-vi-semana-de-arquitectura-con-el-concierto-beatlemania-2025/
LOCATION:Espacio Ricardo Lorenzo (COACAN)\, Calle Aguayos\, 5\, Santander\, Cantabria\, 39003\, España
CATEGORIES:Música
ATTACH;FMTTYPE=image/webp:https://descubresantander.es/wp-content/uploads/2025/10/eventos-santander-clausura-de-la-vi-semana_11zon.webp
END:VEVENT
BEGIN:VEVENT
DTSTART;TZID=Europe/Madrid:20251017T173000
DTEND;TZID=Europe/Madrid:20251017T173000
DTSTAMP:20260420T140235
CREATED:20251013T132759Z
LAST-MODIFIED:20251013T132811Z
UID:10007026-1760722200-1760722200@descubresantander.es
SUMMARY:Proyección del documental Invitación al viaje de Eileen Gray
DESCRIPTION:¿DE QUÉ TRATA “Proyección del documental Invitación al viaje de Eileen Gray”?\n  \n\n\n\n\n\n\n\n\n\n\n\nEl Colegio Oficial de Arquitectos de Cantabria\, COACan\, celebra la sexta edición de su Semana de la Arquitectura. Se trata de una iniciativa que pretende acercar la arquitectura a la sociedad\, fomentar el intercambio de experiencias y proyectos entre profesionales y poner en valor el patrimonio arquitectónico más cercano. Dentro de la programación se encuentra el IV festival ArQuiCines. \nEl documental “Invitación al viaje” hace un recorrido intelectual y vital de la arquitecta\, así como una descripción exhaustiva de la casa que empezó a construir en 1926\, junto a Jean Badovici\, bajo el enigmático nombre de E.1027\, una de las viviendas privadas más importantes de la arquitectura moderna. Ochenta años después\, se encuentra en estado de ruina\, cerrada al público y a la espera de ser reformada. La casa está apartada y oculta de las miradas de los transeúntes. Esta es la primera vez que las cámaras filman a través de su verja. \n  \n\n\n\n\n¡Disfruta de los “Proyección del documental Invitación al viaje de Eileen Gray”!\nDescubre Santander informa de que los diferentes eventos publicados se ofrecen a modo informativo\, no siendo Descubre Santander responsable de los problemas o daños causados por erratas o incorrecciones de los mismos.
URL:https://descubresantander.es/evento/proyeccion-del-documental-invitacion-al-viaje-de-eileen-gray/
LOCATION:Espacio Ricardo Lorenzo (COACAN)\, Calle Aguayos\, 5\, Santander\, Cantabria\, 39003\, España
CATEGORIES:Cine/Audiovisual
ATTACH;FMTTYPE=image/webp:https://descubresantander.es/wp-content/uploads/2025/10/eventos-santander-iv-festival-arquicines_11zon.webp
END:VEVENT
BEGIN:VEVENT
DTSTART;TZID=Europe/Madrid:20251016T190000
DTEND;TZID=Europe/Madrid:20251016T190000
DTSTAMP:20260420T140235
CREATED:20251013T125435Z
LAST-MODIFIED:20251013T125454Z
UID:10007016-1760641200-1760641200@descubresantander.es
SUMMARY:Santander saludable asamblea ciudadana y mesa redonda
DESCRIPTION:¿DE QUÉ TRATA “Santander saludable asamblea ciudadana y mesa redonda”?\n  \n\n\n\n\n\n\n\n\n\n\n\nEl Colegio Oficial de Arquitectos de Cantabria\, COACan\, celebra la sexta edición de su Semana de la Arquitectura. Se trata de una iniciativa que pretende acercar la arquitectura a la sociedad\, fomentar el intercambio de experiencias y proyectos entre profesionales y poner en valor el patrimonio arquitectónico más cercano. Dentro de la programación se encuentra el IV festival ‘ArQuiCines’. \nTras la proyección del 16 de octubre tendrá lugar un encuentro con la Asamblea Ciudadana Santander Saludable\, integrada\, entre otras asociaciones y partidos políticos\, por ARCA\, la Asociación de Vecinos Pombo-Cañadío-Ensanche\, Cantabria ConBici\, Ecologistas en Acción Cantabria\, las Mesas de Movilidad de Cantabria\, Podemos Santander\, UGT en Verde o Verdes Equo. \n  \n\n\n\n\n¡Disfruta de los “Santander saludable asamblea ciudadana y mesa redonda”!\nDescubre Santander informa de que los diferentes eventos publicados se ofrecen a modo informativo\, no siendo Descubre Santander responsable de los problemas o daños causados por erratas o incorrecciones de los mismos.
URL:https://descubresantander.es/evento/santander-saludable-asamblea-ciudadana-y-mesa-redonda/
LOCATION:Espacio Ricardo Lorenzo (COACAN)\, Calle Aguayos\, 5\, Santander\, Cantabria\, 39003\, España
CATEGORIES:Arquitectura
ATTACH;FMTTYPE=image/webp:https://descubresantander.es/wp-content/uploads/2025/10/eventos-santander-saludable-asamblea-ciudadana-y-mesa-redonda_11zon.webp
END:VEVENT
BEGIN:VEVENT
DTSTART;TZID=Europe/Madrid:20251016T173000
DTEND;TZID=Europe/Madrid:20251016T173000
DTSTAMP:20260420T140235
CREATED:20251013T130804Z
LAST-MODIFIED:20251013T130818Z
UID:10007020-1760635800-1760635800@descubresantander.es
SUMMARY:Proyección del documental Transformando la realidad de Álvaro Siza
DESCRIPTION:¿DE QUÉ TRATA “Proyección del documental Transformando la realidad de Álvaro Siza”?\n  \n\n\n\n\n\n\n\n\n\n\n\nEl Colegio Oficial de Arquitectos de Cantabria\, COACan\, celebra la sexta edición de su Semana de la Arquitectura. Se trata de una iniciativa que pretende acercar la arquitectura a la sociedad\, fomentar el intercambio de experiencias y proyectos entre profesionales y poner en valor el patrimonio arquitectónico más cercano. Dentro de la programación se encuentra el IV festival ‘ArQuiCines’. \n En el documental “Transformando la realidad” el arquitecto portugués habla sobre su trabajo y recorre quince de sus obras con el historiador de arquitectura Kenneth Frampton\, quien se refiere a Siza como “uno de los arquitectos en activo más importantes en la actualidad”. \n  \n\n\n\n\n¡Disfruta de los “Proyección del documental Transformando la realidad de Álvaro Siza”!\nDescubre Santander informa de que los diferentes eventos publicados se ofrecen a modo informativo\, no siendo Descubre Santander responsable de los problemas o daños causados por erratas o incorrecciones de los mismos.
URL:https://descubresantander.es/evento/proyeccion-del-documental-transformando-la-realidad-de-alvaro-siza/
LOCATION:Espacio Ricardo Lorenzo (COACAN)\, Calle Aguayos\, 5\, Santander\, Cantabria\, 39003\, España
CATEGORIES:Cine/Audiovisual
ATTACH;FMTTYPE=image/webp:https://descubresantander.es/wp-content/uploads/2025/10/eventos-santander-proyeccion-documental-transformando-la-realidad_11zon.webp
END:VEVENT
BEGIN:VEVENT
DTSTART;TZID=Europe/Madrid:20251015T190000
DTEND;TZID=Europe/Madrid:20251015T190000
DTSTAMP:20260420T140235
CREATED:20251013T122027Z
LAST-MODIFIED:20251013T122047Z
UID:10007004-1760554800-1760554800@descubresantander.es
SUMMARY:Proyección Peter Zumthor: la práctica de la arquitectura
DESCRIPTION:¿DE QUÉ TRATA “Proyección Peter Zumthor: la práctica de la arquitectura”?\n  \n\n\n\n\n\n\n\n\n\n\n\nEl Colegio Oficial de Arquitectos de Cantabria\, COACan\, celebra la sexta edición de su Semana de la Arquitectura. Se trata de una iniciativa que pretende acercar la arquitectura a la sociedad\, fomentar el intercambio de experiencias y proyectos entre profesionales y poner en valor el patrimonio arquitectónico más cercano. Dentro de la programación se encuentra el IV festival ‘ArQuiCines’. \nEn el Centro de Arquitectura Ricardo Lorenzo se proyectará\, con entrada libre\, el documental “Peter Zumthor: la práctica de la arquitectura”. Una producción de la Fundación Arquia dirigida por Michael Blackwood en 2012\, dos años después de que se le concediera a Zumthor el premio Pritzker. \n  \n\n\n\n\n¡Disfruta de los “Proyección Peter Zumthor: la práctica de la arquitectura”!\nDescubre Santander informa de que los diferentes eventos publicados se ofrecen a modo informativo\, no siendo Descubre Santander responsable de los problemas o daños causados por erratas o incorrecciones de los mismos.
URL:https://descubresantander.es/evento/proyeccion-peter-zumthor-la-practica-de-la-arquitectura/
LOCATION:Espacio Ricardo Lorenzo (COACAN)\, Calle Aguayos\, 5\, Santander\, Cantabria\, 39003\, España
CATEGORIES:Cine/Audiovisual
ATTACH;FMTTYPE=image/webp:https://descubresantander.es/wp-content/uploads/2025/10/eventos-santander-peter-zumthor-la-practica-de-la-arquitectura_11zon.webp
END:VEVENT
BEGIN:VEVENT
DTSTART;TZID=Europe/Madrid:20251009T190000
DTEND;TZID=Europe/Madrid:20251009T190000
DTSTAMP:20260420T140235
CREATED:20251002T155716Z
LAST-MODIFIED:20251002T155726Z
UID:10006725-1760036400-1760036400@descubresantander.es
SUMMARY:Habitar contextos conferencia de Héctor Mendoza y Mara Partida
DESCRIPTION:¿DE QUÉ TRATA “Habitar contextos conferencia de Héctor Mendoza y Mara Partida”?\n  \n\n\n\n\n\n\n\n\n\n\n\nEl Colegio Oficial de Arquitectos de Cantabria celebra la VI Semana de la Arquitectura con un intenso programa de actividades.  \nEl jueves 9 de octubre a las 19:00h\, el Espacio Ricardo Lorenzo acoge la conferencia “Habitar contextos”\, que impartirán los arquitectos Héctor Mendoza y Mara Partida.  \nEntrada libre hasta completar el aforo. \n  \n\n\n\n\n¡Disfruta de los “Habitar contextos conferencia de Héctor Mendoza y Mara Partida”!\nDescubre Santander informa de que los diferentes eventos publicados se ofrecen a modo informativo\, no siendo Descubre Santander responsable de los problemas o daños causados por erratas o incorrecciones de los mismos.
URL:https://descubresantander.es/evento/habitar-contextos-conferencia-de-hector-mendoza-y-mara-partida/
LOCATION:Espacio Ricardo Lorenzo (COACAN)\, Calle Aguayos\, 5\, Santander\, Cantabria\, 39003\, España
CATEGORIES:Arquitectura
ATTACH;FMTTYPE=image/webp:https://descubresantander.es/wp-content/uploads/2025/10/eventos-santander-habitar-ontextos-conferencia-de-hector-mendoza-y-mara-partida_11zon.webp
END:VEVENT
END:VCALENDAR