BEGIN:VCALENDAR
VERSION:2.0
PRODID:-//Guía Oficial de Santander l Turismo I Descubre Santander - ECPv6.15.20//NONSGML v1.0//EN
CALSCALE:GREGORIAN
METHOD:PUBLISH
X-ORIGINAL-URL:https://descubresantander.es
X-WR-CALDESC:Eventos para Guía Oficial de Santander l Turismo I Descubre Santander
REFRESH-INTERVAL;VALUE=DURATION:PT1H
X-Robots-Tag:noindex
X-PUBLISHED-TTL:PT1H
BEGIN:VTIMEZONE
TZID:Europe/Madrid
BEGIN:DAYLIGHT
TZOFFSETFROM:+0100
TZOFFSETTO:+0200
TZNAME:CEST
DTSTART:20250330T010000
END:DAYLIGHT
BEGIN:STANDARD
TZOFFSETFROM:+0200
TZOFFSETTO:+0100
TZNAME:CET
DTSTART:20251026T010000
END:STANDARD
BEGIN:DAYLIGHT
TZOFFSETFROM:+0100
TZOFFSETTO:+0200
TZNAME:CEST
DTSTART:20260329T010000
END:DAYLIGHT
BEGIN:STANDARD
TZOFFSETFROM:+0200
TZOFFSETTO:+0100
TZNAME:CET
DTSTART:20261025T010000
END:STANDARD
BEGIN:DAYLIGHT
TZOFFSETFROM:+0100
TZOFFSETTO:+0200
TZNAME:CEST
DTSTART:20270328T010000
END:DAYLIGHT
BEGIN:STANDARD
TZOFFSETFROM:+0200
TZOFFSETTO:+0100
TZNAME:CET
DTSTART:20271031T010000
END:STANDARD
END:VTIMEZONE
BEGIN:VEVENT
DTSTART;TZID=Europe/Madrid:20260312T210000
DTEND;TZID=Europe/Madrid:20260312T210000
DTSTAMP:20260420T150145
CREATED:20260210T144210Z
LAST-MODIFIED:20260210T144222Z
UID:10007579-1773349200-1773349200@descubresantander.es
SUMMARY:¿Se pueden besar las olas? con Juanjo González-Trueba
DESCRIPTION:¿DE QUÉ TRATA “¿Se pueden besar las olas? con Juanjo González-Trueba”?\n  \nInteresa es un proyecto cultural que recupera el espíritu diletante —del italiano dilettare\, “deleitarse”—. En el Renacimiento\, los dilettanti se reunían por gusto\, sin pretensiones ni necesidad de ser experto en el tema\, solo para compartir\, aprender y disfrutar de la conversación. Así proponen sus encuentros: cenas íntimas\, en comedores privados\, con un máximo de 10 personas y un invitado especial. \n12/03. ¿Se pueden besar las olas? con Juanjo González-Trueba  \nJuanjo González-Trueba es geógrafo y profesor de la Universidad de Cantabria\, divulgador incansable\, autor de numerosas publicaciones sobre ciencia y cultura oceánica y activista comprometido. Es director y cofundador de la ONG Alianza Surf & Naturaleza que creó el Manifiesto para la Protección de las Olas y otros programas nacionales e internacionales para la protección legal de las rompientes. \n  \n¡Disfruta de los “¿Se pueden besar las olas? con Juanjo González-Trueba”!\nDescubre Cantabria informa de que los diferentes eventos publicados se ofrecen a modo informativo\, no siendo Descubre Cantabria responsable de los problemas o daños causados por erratas o incorrecciones de los mismos.
URL:https://descubresantander.es/evento/se-pueden-besar-las-olas-con-juanjo-gonzalez-trueba/
LOCATION:Deluz\, Calle ramón y Cajal 18\, Santander\, Cantabria\, 39005\, España
CATEGORIES:Otros
ATTACH;FMTTYPE=image/webp:https://descubresantander.es/wp-content/uploads/2026/02/eventos-santander-se-pueden-besar-las-olas_11zon.webp
END:VEVENT
BEGIN:VEVENT
DTSTART;TZID=Europe/Madrid:20260219T210000
DTEND;TZID=Europe/Madrid:20260219T210000
DTSTAMP:20260420T150145
CREATED:20260209T141012Z
LAST-MODIFIED:20260209T141024Z
UID:10007463-1771534800-1771534800@descubresantander.es
SUMMARY:Moda e identidad con Patricia Eguidazu
DESCRIPTION:¿DE QUÉ TRATA “Moda e identidad con Patricia Eguidazu”?\n  \nInteresa es un proyecto cultural que recupera el espíritu diletante —del italiano dilettare\, “deleitarse”—. En el Renacimiento\, los dilettanti se reunían por gusto\, sin pretensiones ni necesidad de ser experto en el tema\, solo para compartir\, aprender y disfrutar de la conversación. Así proponen sus encuentros: cenas íntimas\, en comedores privados\, con un máximo de 10 personas y un invitado especial. \n19/02. Moda e identidad \n“En el origen del consumo irracional está el no entender quiénes somos ni tener pensamiento crítico para decidir sobre lo que vemos”. Patricia Eguidazu se graduó en Administración y Dirección de Empresas\, y ha sido profesora en grados de diseño de moda desde hace más de 10 años. Ahora enseña a mujeres reales a entender cómo mirar la moda con un enfoque práctico y satisfactorio. \n  \n¡Disfruta de los “Moda e identidad con Patricia Eguidazu”!\nDescubre Cantabria informa de que los diferentes eventos publicados se ofrecen a modo informativo\, no siendo Descubre Cantabria responsable de los problemas o daños causados por erratas o incorrecciones de los mismos.
URL:https://descubresantander.es/evento/moda-e-identidad-con-patricia-eguidazu/
LOCATION:Deluz\, Calle ramón y Cajal 18\, Santander\, Cantabria\, 39005\, España
CATEGORIES:Otros
ATTACH;FMTTYPE=image/webp:https://descubresantander.es/wp-content/uploads/2026/02/eventos-santander-moda-e-identidad_11zon.webp
END:VEVENT
END:VCALENDAR