BEGIN:VCALENDAR
VERSION:2.0
PRODID:-//Guía Oficial de Santander l Turismo I Descubre Santander - ECPv6.15.20//NONSGML v1.0//EN
CALSCALE:GREGORIAN
METHOD:PUBLISH
X-ORIGINAL-URL:https://descubresantander.es
X-WR-CALDESC:Eventos para Guía Oficial de Santander l Turismo I Descubre Santander
REFRESH-INTERVAL;VALUE=DURATION:PT1H
X-Robots-Tag:noindex
X-PUBLISHED-TTL:PT1H
BEGIN:VTIMEZONE
TZID:Europe/Madrid
BEGIN:DAYLIGHT
TZOFFSETFROM:+0100
TZOFFSETTO:+0200
TZNAME:CEST
DTSTART:20250330T010000
END:DAYLIGHT
BEGIN:STANDARD
TZOFFSETFROM:+0200
TZOFFSETTO:+0100
TZNAME:CET
DTSTART:20251026T010000
END:STANDARD
BEGIN:DAYLIGHT
TZOFFSETFROM:+0100
TZOFFSETTO:+0200
TZNAME:CEST
DTSTART:20260329T010000
END:DAYLIGHT
BEGIN:STANDARD
TZOFFSETFROM:+0200
TZOFFSETTO:+0100
TZNAME:CET
DTSTART:20261025T010000
END:STANDARD
BEGIN:DAYLIGHT
TZOFFSETFROM:+0100
TZOFFSETTO:+0200
TZNAME:CEST
DTSTART:20270328T010000
END:DAYLIGHT
BEGIN:STANDARD
TZOFFSETFROM:+0200
TZOFFSETTO:+0100
TZNAME:CET
DTSTART:20271031T010000
END:STANDARD
END:VTIMEZONE
BEGIN:VEVENT
DTSTART;TZID=Europe/Madrid:20260418T160000
DTEND;TZID=Europe/Madrid:20260418T200000
DTSTAMP:20260419T194009
CREATED:20260227T161846Z
LAST-MODIFIED:20260227T161857Z
UID:10008413-1776528000-1776542400@descubresantander.es
SUMMARY:Exposición Itinerarios XXX
DESCRIPTION:¿DE QUÉ TRATA “Exposición Itinerarios XXX”?\n  \nItinerarios XXX reúne los proyectos de los artistas seleccionados en la convocatoria de las Becas de Arte de la Fundación Botín de 2023. El jurado estuvo compuesto por las comisarias Irene Aristizábal y Filipa Ramos\, junto con los artistas Juan López y Jorge Satorre\, antiguos becarios de arte de la Fundación. \nLos seis proyectos presentados en esta exposición exploran la relación entre naturaleza\, memoria y formas de conocimiento no racional. Desde perspectivas diversas\, las obras se plantean un vínculo afectivo y simbólico con los paisajes –marinos\, desérticos o florales– proponiendo modos de atención y contemplación que\, a menudo\, cuestionan las jerarquías entre lo humano y lo no humano. \nLos artistas reivindican el arte como una herramienta para la transmisión de saberes\, gestos y creencias ancestrales\, rescatando historias invisibles a la vez que oficios y mitologías en los márgenes de la ciencia y el arte. \nGelen Jeleton (Murcia\, España\, 1975) se inspira en la experiencia del Hanami\, un momento de encuentro social en Japón para contemplar el cerezo en flor. Su instalación está compuesta por dibujos sobre papel de seda y una serie de animaciones que representan el sakura (la flor del cerezo japonés)\, el yozakura (cerezos de noche)\, el hanafubuki (lluvia de pétalos) y su recuerdo. \nJavier Bravo de Rueda (Callao\, Perú\, 1989) nos traslada a un pequeño museo en Ica\, Perú\, donde se encuentran unas enigmáticas piedras a las que se atribuyen millones de años de antigüedad y relatan historias de seres de otras galaxias. El montaje combina registros\, artefactos\, dibujos animados\, murales\, esculturas y sonido. No ofrece respuestas: invita a especular\, a perderse entre crónicas de viaje\, ciencia ficción y relatos ancestrales que hablan de orígenes inciertos y presencias venidas del cielo. \nNoa y Lara Castro Lema (A Coruña\, España\, 1998) han creado un cuento musical que toma como punto de partida el Gran Sol\, un caladero del Atlántico Norte\, donde su abuelo Nelson pasó la mayor parte de su vida trabajando. Este tipo de caladero era llamado en francés Grande Sole (gran lenguado). La traducción fonética del francés al gallego relaciona\, a través del lenguaje\, los peces (sole) y los astros (sol)\, generando un juego performativo donde pasado y futuro se unen en el presente. \nDiego Delas (Aranda de Duero\, España\, 1983) explora las intersecciones y similitudes entre la práctica artística y el llamado arte popular. En la sala encontramos una colección de enormes formas dispuestas como las collaradas\, acumulaciones de amuletos y talismanes que se utilizaban en el pasado para proteger a los niños– que estructuran el espacio. La obra alude al mundo premoderno\, donde el ornamento se entiende como una idea de dignidad\, belleza y alegría. \nNader Koochaki (San Sebastián\, España\, 1983) se pregunta por la intención de Salvador Robles Aibar\, un operario de buldócer que instaló inusuales conjuntos de rocas en varias zonas restauradas de la Corta Pastora (León). ¿Son las piedras refugios para animales? ¿Pueden leerse desde la perspectiva del arte cuando la persona que las colocó no tenía ningún vínculo con esta disciplina? ¿Pueden conceptos como el arte marginal o el arte ambiental reforzar su importancia o les otorgaría un significado desproporcionado para una acción que quizá fue hecha sin intencionalidad? \nEduardo Navarro (Buenos Aires\, Argentina\, 1979) explora formas de entender el mundo no humano. Su obra F.O.C.A. (Fundación Oceánica de Contemplación Amorosa) ha sido desarrollada a lo largo de los últimos dos años en Uruguay. En ella\, el artista actúa como una madre-paterna\, dando el biberón a crías huérfanas de lobos de mar rescatadas por el refugio SOS Rescate Fauna Marina. El traje que utiliza es un vehículo que le ayuda física y emocionalmente a percibir el mundo desde el lugar en que lo hace una madre al alimentar a sus crías. Ellas saben que es un juego y lo juegan en complicidad. Sala 1 \n  \n¡Disfruta de los “Exposición Itinerarios XXX”!\nDescubre Cantabria informa de que los diferentes eventos publicados se ofrecen a modo informativo\, no siendo Descubre Cantabria responsable de los problemas o daños causados por erratas o incorrecciones de los mismos.
URL:https://descubresantander.es/evento/exposicion-itinerarios-xxx/2026-04-18/
LOCATION:Centro Botín\, Muelle de Albareda s/n Jardines de Pereda\, Santander\, Santander\, 39004\, España
CATEGORIES:Exposiciones
ATTACH;FMTTYPE=image/webp:https://descubresantander.es/wp-content/uploads/2026/02/eventos-santander-exposicion-itinerarios-xxx_11zon.webp
END:VEVENT
BEGIN:VEVENT
DTSTART;TZID=Europe/Madrid:20260418T160000
DTEND;TZID=Europe/Madrid:20260418T200000
DTSTAMP:20260419T194009
CREATED:20260227T161525Z
LAST-MODIFIED:20260227T161554Z
UID:10008229-1776528000-1776542400@descubresantander.es
SUMMARY:Exposición Punto y contrapunto
DESCRIPTION:¿DE QUÉ TRATA “Exposición Punto y contrapunto”?\n  \nLa exposición permanente Punto y contrapunto: maestros del siglo XX en la colección de Jaime Botín presenta una selección de obras de la colección personal de Jaime Botín que sus herederos han confiado generosamente al Centro Botín. Es el corazón del programa expositivo\, ya que contribuye a entender las relaciones intergeneracionales –estéticas\, éticas\, formales– que nos han llevado al arte actual y que siguen construyendo lo que está por venir. \nLa muestra reúne a 14 importantes artistas del siglo xx con obras intensas\, expresivas\, que interactúan en sus contrastes de tonos\, texturas y estilos\, en un reflexivo diálogo visual\, al transmitir sentimientos profundos a pesar de sus heterogéneas estéticas\, lo que favorece su unidad y cohesión con el espectador. \nCuenta con las creaciones de artistas españoles como Manolo Millares\, Pablo Palazuelo y Antoni Tàpies\, cercanas a la abstracción\, bien sea matérica\, expresionista o geométrica; en un contrastado diálogo con el luminismo de Joaquín Sorolla; el cubismo de María Blanchard y Juan Gris; la pintura poética de Joan Miró; la figuración lírica de Pancho Cossío; el realismo de José Gutiérrez Solana; el noucentisme de Isidre Nonell y el neocubismo de Daniel Vázquez Díaz. \nTambién están presentes algunos de los artistas internacionales más significativos del siglo xx que representan la nueva figuración\, como Francis Bacon; el fovismo\, como Henri Matisse; y el expresionismo\, como Mark Rothko. \nTodos ellos pertenecen a dos momentos relevantes de la historia del arte: el tiempo de las vanguardias y el arte de los años posteriores a la Segunda Guerra Mundial. \nSe trata de una pluralidad de prácticas de artistas muy singulares\, que rompieron moldes y cánones de su época y que\, desde su posicionamiento único\, se pudieron conocer\, influir o contradecir. Cada obra coexiste en su incuestionable individualidad con el resto y participa en un proceso colectivo y evolutivo de la historia del arte. \nLos vigorosos puntos\, al igual que los diversos contrapuntos que se perciben en la muestra\, nos acercan a la personalidad de Jaime Botín Sanz de Sautuola y García de los Ríos (1936- 2024). Gran amante de las artes\, con extensos conocimientos en la materia y dotado de una sensibilidad especial\, incluyó en su colección obras que debían cumplir el único requisito de que la pintura en sí misma le interesara y la sintiera cercana. \nMiembro de la Junta Rectora de la Fundación Botín desde su creación en 1965\, y vicepresidente de su patronato desde que este se constituyera en 1996\, las obras que componen esta sala son el mejor testigo del compromiso social y filantrópico de Jaime Botín. \nComisaria: Mª José Salazar. Sala de exposiciones 1 \n  \n¡Disfruta de los “Exposición Punto y contrapunto”!\nDescubre Cantabria informa de que los diferentes eventos publicados se ofrecen a modo informativo\, no siendo Descubre Cantabria responsable de los problemas o daños causados por erratas o incorrecciones de los mismos.
URL:https://descubresantander.es/evento/exposicion-punto-y-contrapunto/2026-04-18/
LOCATION:Centro Botín\, Muelle de Albareda s/n Jardines de Pereda\, Santander\, Santander\, 39004\, España
CATEGORIES:Exposiciones
ATTACH;FMTTYPE=image/webp:https://descubresantander.es/wp-content/uploads/2026/02/eventos-santander-exposicion-punto-y-contrapunto_11zon.webp
END:VEVENT
BEGIN:VEVENT
DTSTART;TZID=Europe/Madrid:20260418T160000
DTEND;TZID=Europe/Madrid:20260418T200000
DTSTAMP:20260419T194009
CREATED:20260227T161140Z
LAST-MODIFIED:20260227T161156Z
UID:10008094-1776528000-1776542400@descubresantander.es
SUMMARY:Exposición Yuko Mohri: Entrelazamientos
DESCRIPTION:¿DE QUÉ TRATA “Exposición Yuko Mohri: Entrelazamientos”?\n  \nExposición organizada por la Fundación Botín y Pirelli HangarBicocca (Milán). \nYuko Mohri (Kanagawa\, Japón\, 1980) es conocida por sus composiciones intrincadas y originales\, recientemente presentadas en el Pabellón de Japón de la 60ª Bienal de Venecia (2024). Inspirada en Marcel Duchamp (1887–1968)\, Mohri crea esculturas cinéticas específicas para el espacio expositivo que incorporan objetos encontrados\, así como instrumentos musicales intervenidos y conectados a circuitos electrónicos.  \nSus obras responden a fenómenos imperceptibles\, transitorios y efímeros\, como la gravedad\, el magnetismo\, el calor y la humedad.  \nElementos ambientales aleatorios e inestables —como el aire\, el polvo\, los restos y la temperatura— configuran sus ensamblajes\, transformándolos en ecosistemas orgánicos donde el componente sonoro es central. \nEntralazamientos es\, hasta la fecha\, la exposición individual más extensa de Yuko Mohri en una institución europea.  \nEl título evoca los vínculos invisibles y las complejas interacciones que existen entre objetos\, fuerzas\, sonidos y personas.  \nLa muestra explora cómo cada elemento pertenece a un sistema interconectado en el que nada actúa de manera independiente y todo forma parte de una vasta red de relaciones en constante evolución. \n Las esculturas delicadamente equilibradas de Mohri revelan la complejidad latente de las estructuras naturales y artificiales que constituyen nuestro mundo y el flujo constante de energía que nos rodea.  \nA través de los materiales que emplea\, Mohri introduce una sutil ironía y una dimensión lúdica casi oculta\, recurriendo a referencias culturales que van de la filosofía a la cultura pop\, así como a influencias iconográficas y sonoras que abarcan desde el arte cinético hasta la experimentación sonora. \nLa exposición irá acompañada de un catálogo monográfico\, el más completo publicado hasta la fecha sobre la práctica de la artista japonesa. \nComisarios: Fiammetta Griccioli y Vicente Todolí en Pirelli HangarBicocca y Bárbara Rodríguez Muñoz en el Centro Botín. Sala 2 \n  \n¡Disfruta de los “Exposición Yuko Mohri: Entrelazamientos”!\nDescubre Cantabria informa de que los diferentes eventos publicados se ofrecen a modo informativo\, no siendo Descubre Cantabria responsable de los problemas o daños causados por erratas o incorrecciones de los mismos.
URL:https://descubresantander.es/evento/exposicion-yuko-mohri-entrelazamientos/2026-04-18/
LOCATION:Centro Botín\, Muelle de Albareda s/n Jardines de Pereda\, Santander\, Santander\, 39004\, España
CATEGORIES:Exposiciones
ATTACH;FMTTYPE=image/webp:https://descubresantander.es/wp-content/uploads/2026/02/eventos-santander-exposicion-yuko-mohri_11zon-1.webp
END:VEVENT
BEGIN:VEVENT
DTSTART;TZID=Europe/Madrid:20260417T180000
DTEND;TZID=Europe/Madrid:20260417T180000
DTSTAMP:20260419T194009
CREATED:20260320T103317Z
LAST-MODIFIED:20260320T103328Z
UID:10008602-1776448800-1776448800@descubresantander.es
SUMMARY:Inauguración para familias Yuko Mohri
DESCRIPTION:¿DE QUÉ TRATA “Inauguración para familias Yuko Mohri”?\n  \nEl 28 de marzo abre sus puertas la nueva exposición del Centro Botín\, Yuko Mohri: Entrelazamientos y queremos celebrarlo con los Amigos familiares del Centro Botín como se merece\, en una sesión especial para vosotros. \nEl 17 de abril\, a las 18:00 horas\, os esperamos en el auditorio del Centro Botín. Tras escuchar unas pinceladas sobre la obra de Yuko Mohri\, pasaremos a conocer la exposición. Habrá tiempo para ver libremente las obras y adentrarse en el universo creativo de la artista japonesa que nos muestra los cambios del entorno con esculturas que se mueven\, creadas con objetos cotidianos e instrumentos musicales intervenidos y conectados a circuitos electrónicos. \nDespués\, volveremos al auditorio para tomar un aperitivo\, brindar juntos y compartir la experiencia vivida. ¿Os lo vais a perder? \nPara que podamos organizar todo muy bien necesitamos que os apuntéis a través de este link e indiquéis cuántos adultos y cuántos niños seréis\, antes del 15 de abril a las 9 de la mañana. \nDuración: 1 hora \nEvento para Amigos del Centro Botín (niños a partir de 6 años acompañados de adultos). \n  \n¡Disfruta de los “Inauguración para familias Yuko Mohri”!\nDescubre Cantabria informa de que los diferentes eventos publicados se ofrecen a modo informativo\, no siendo Descubre Cantabria responsable de los problemas o daños causados por erratas o incorrecciones de los mismos.
URL:https://descubresantander.es/evento/inauguracion-para-familias-yuko-mohri/
LOCATION:Centro Botín\, Muelle de Albareda s/n Jardines de Pereda\, Santander\, Santander\, 39004\, España
CATEGORIES:Exposiciones
ATTACH;FMTTYPE=image/webp:https://descubresantander.es/wp-content/uploads/2026/03/eventos-santander-inauguracion-familias-yuko_11zon.webp
END:VEVENT
BEGIN:VEVENT
DTSTART;TZID=Europe/Madrid:20260416T190000
DTEND;TZID=Europe/Madrid:20260416T190000
DTSTAMP:20260419T194009
CREATED:20260320T103628Z
LAST-MODIFIED:20260320T103657Z
UID:10008603-1776366000-1776366000@descubresantander.es
SUMMARY:De arte y gusto: nos comemos un cuadro
DESCRIPTION:¿DE QUÉ TRATA “De arte y gusto: nos comemos un cuadro”?\n  \nEn esta singular experiencia\, los Amigos del Centro Botín podrán acercarse al arte a través de la gastronomía y a la gastronomía a través del arte. \n Comenzaremos en la sala de exposiciones con una breve introducción a Untitled (Red and Brown)\, la obra de Mark Rothko presente en la exposición Punto y contrapunto. \n Conoceremos por qué el trabajo de Rothko supuso un antes y un después en el uso del color como lenguaje emocional y cómo su pintura aspira a trascender lo puramente visual. \nA partir de esta atmósfera nos trasladaremos al auditorio donde Fernando Llamosas\, chef responsable del Grupo Riojano inspirado por la obra y las emociones que esta generó en él\, elaborará un bocado. Con este mismo punto de partida los participantes crearán su propia interpretación de la obra de Rothko a partir de los ingredientes de Llamosas que previamente hablará de la importancia del equilibrio de sabores en la cocina a base de dinámicas sensoriales que brindará a los asistentes. \nEl resultado final de esta receta se incorporará a la carta del Café Centro Botín\, prolongando la experiencia artística más allá de la sala. \nDuración: 75 minutos \nEvento para jóvenes y adultos. Exclusivo para Amigos del Centro Botín. \n  \n¡Disfruta de los “De arte y gusto: nos comemos un cuadro”!\nDescubre Cantabria informa de que los diferentes eventos publicados se ofrecen a modo informativo\, no siendo Descubre Cantabria responsable de los problemas o daños causados por erratas o incorrecciones de los mismos.
URL:https://descubresantander.es/evento/de-arte-y-gusto-nos-comemos-un-cuadro/
LOCATION:Centro Botín\, Muelle de Albareda s/n Jardines de Pereda\, Santander\, Santander\, 39004\, España
CATEGORIES:Exposiciones
ATTACH;FMTTYPE=image/webp:https://descubresantander.es/wp-content/uploads/2026/03/eventos-santander-de-arte-y-gusto-nos-comemos_11zon.webp
END:VEVENT
BEGIN:VEVENT
DTSTART;TZID=Europe/Madrid:20260413T190000
DTEND;TZID=Europe/Madrid:20260413T190000
DTSTAMP:20260419T194009
CREATED:20260327T172823Z
LAST-MODIFIED:20260327T172923Z
UID:10008730-1776106800-1776106800@descubresantander.es
SUMMARY:Inauguración de la exposición fotográfica “Resiliencia”
DESCRIPTION:¿DE QUÉ TRATA “Inauguración de la exposición fotográfica “Resiliencia””?\n  \nLa delegación de Cantabria de la Fundación InteRed inaugura el lunes 13 de abril a las 19:00h la exposición “Resiliencia” en el centro cívico Juan de Santander\, en Cueto. El acto se enmarca en el proyecto “Tejiendo Redes de Solidaridad y Transformación en Cantabria” y cuenta con la cofinanciación del Gobierno de Cantabria y la colaboración del Ayuntamiento de Santander. \nLa exposición es obra de David Alfaro y pone el foco en el contexto de República Dominicana y Haití\, donde la organización está presente apoyando e impulsando diversidad de proyectos. La muestra se centra historias reales: mercados fronterizos\, procesos migratorios\, relaciones familiares divididas por una línea imaginaria\, y la fortaleza de mujeres\, hombres\, niñas y niños que construyen comunidad incluso en condiciones adversas. \nBusca generar una reflexión sobre la dignidad humana\, la convivencia y la importancia de mirar más allá de los titulares. \nPuedes encontrar todos los eventos en Santander aquí. \n  \n¡Disfruta de los “Inauguración de la exposición fotográfica “Resiliencia””!\nDescubre Cantabria informa de que los diferentes eventos publicados se ofrecen a modo informativo\, no siendo Descubre Cantabria responsable de los problemas o daños causados por erratas o incorrecciones de los mismos.
URL:https://descubresantander.es/evento/inauguracion-de-la-exposicion-fotografica-resiliencia/
LOCATION:Centro Civico Juan de Santander\, Calle el Recial 25\, Santander\, Cantabria\, 39012\, España
CATEGORIES:Exposiciones
ATTACH;FMTTYPE=image/webp:https://descubresantander.es/wp-content/uploads/2026/03/eventos-santander-inauguracion-de-la-exposicion_11zon-1.webp
END:VEVENT
BEGIN:VEVENT
DTSTART;TZID=Europe/Madrid:20260329T120000
DTEND;TZID=Europe/Madrid:20260329T170000
DTSTAMP:20260419T194009
CREATED:20260227T165805Z
LAST-MODIFIED:20260227T165830Z
UID:10008446-1774785600-1774803600@descubresantander.es
SUMMARY:Visitas a las exposiciones exclusivas para amigos
DESCRIPTION:¿DE QUÉ TRATA “Visitas a las exposiciones exclusivas para amigos”?\n  \nPasar una mañana de domingo rodeados de arte siempre es un buen plan y si es con amigos\, mucho mejor. Si ya eres Amigo del Centro Botín aprovecha esta cita para descubrir\, compartir\, reflexionar y disfrutar juntos\, de las propuestas expositivas del Centro Botín. Con la ayuda de un mediador conocerás más datos sobre los artistas\, te contarán curiosidades sobre sus procesos creativos y aprenderás cómo recorrer cada exposición para sacarle el máximo partido a cada muestra. Querrás volver una y mil veces y lo mejor es que\, después\, tú mismo podrás guiar a tus amigos y regalarles una visita tan especial como la que viviste. \n\nDomingo 1 de marzo Cooking Sections: Las olas perdidas\nDomingo 15 de marzo Itinerarios XXX\nDomingo 29 de marzo Yuko Mohri: Entrelazamientos\n\n¿Aún no eres Amigo del Centro Botín? Pincha aquí y aprovecha todas las ventajas de acceso\, descuentos y propuestas exclusivas que programamos para nuestros Amigos. \nDuración: 1 hora \nEvento para todos los públicos. Exclusivo para Amigos del Centro Botín \n  \n¡Disfruta de los “Visitas a las exposiciones exclusivas para amigos”!\nDescubre Cantabria informa de que los diferentes eventos publicados se ofrecen a modo informativo\, no siendo Descubre Cantabria responsable de los problemas o daños causados por erratas o incorrecciones de los mismos.
URL:https://descubresantander.es/evento/visitas-a-las-exposiciones-exclusivas-para-amigos/
LOCATION:Centro Botín\, Muelle de Albareda s/n Jardines de Pereda\, Santander\, Santander\, 39004\, España
CATEGORIES:Exposiciones
ATTACH;FMTTYPE=image/webp:https://descubresantander.es/wp-content/uploads/2026/02/eventos-santander-exposiciones-exclusivas-para-amigos-del-botin_11zon.webp
END:VEVENT
BEGIN:VEVENT
DTSTART;TZID=Europe/Madrid:20260327T160000
DTEND;TZID=Europe/Madrid:20260327T170000
DTSTAMP:20260419T194009
CREATED:20260227T165424Z
LAST-MODIFIED:20260227T165445Z
UID:10008445-1774627200-1774630800@descubresantander.es
SUMMARY:Una obra en diez minutos en Itinerarios XXX
DESCRIPTION:¿DE QUÉ TRATA “Una obra en diez minutos en Itinerarios XXX”?\n  \nDiez minutos de tu tiempo serán suficientes para ir descubriendo a lo largo del mes de marzo a los artistas que forman parte de las exposiciones Itinerarios XXX y Punto y contrapunto. \nCada día a lo largo de este mes\, te presentaremos las obras de dos artistas. Entra en la sala de exposiciones de la primera planta del Centro Botín y busca el cartel. ¿Quién dijo que el arte es aburrido? \n03/03/2026  \n12:00 h       Noa y Lara Castro Lema\n18:00 h       Francis Bacon \n04/03/2026  \n12:00 h       María Blanchard\n18:00 h       Javier Bravo de Rueda \n05/03/2026  \n12:00 h       Gelen Jeleton\n18:00 h       Pancho Cossío \n06/03/2026   \n12:00 h       Juan Gris\n18:00 h       Diego Delas \n10/03/2026 \n12:00 h       Nader Koochaki\n18:00 h       José Gutiérrez Solana \n11/03/2026  \n12:00 h       Henri Matisse\n18:00 h       Eduardo Navarro \n12/03/2026   \n12:00 h       Javier Bravo de Rueda\n18:00 h       Manolo Millares \n13/03/2026 \n12:00 h       Joan Miró\n18:00 h       Noa y Lara Castro Lema \n17/03/2026  \n12:00 h       Diego Delas\n18:00 h       Isidre Nonell \n18/03/2026        \n12:00 h       Pablo Palazuelo\n18:00 h       Gelen Jeleton \n19/03/2026   \n12:00 h       Marth Rothko\n18:00 h       Nader Koochaki \n20/03/2026\n12:00 h       Eduardo Navarro\n18:00 h       Joaquín Sorolla \n24/03/2026       \n12:00 h       Antoni Tapiès\n18:00 h       Eduardo Navarro \n25/03/2026 \n12:00 h       Diego Delas\n18:00 h       Daniel Vázquez Díaz \n26/03/2026    \n12:00 h       Francis Bacon\n18:00 h       Noa y Lara Castro Lema \n27/03/2026        \n12:00 h       Javier Bravo de Rueda\n18:00 h       María Blanchard \nDuración:10 minutos/sesión \nEvento para todos los públicos \nSe incluye con la entrada a la sala \n  \n¡Disfruta de los “Una obra en diez minutos en Itinerarios XXX”!\nDescubre Cantabria informa de que los diferentes eventos publicados se ofrecen a modo informativo\, no siendo Descubre Cantabria responsable de los problemas o daños causados por erratas o incorrecciones de los mismos.
URL:https://descubresantander.es/evento/una-obra-en-diez-minutos-en-itinerarios-xxx/2026-03-27/
LOCATION:Centro Botín\, Muelle de Albareda s/n Jardines de Pereda\, Santander\, Santander\, 39004\, España
CATEGORIES:Exposiciones
ATTACH;FMTTYPE=image/webp:https://descubresantander.es/wp-content/uploads/2026/02/eventos-santander-una-obra-en-diez-minutos_11zon.webp
END:VEVENT
BEGIN:VEVENT
DTSTART;TZID=Europe/Madrid:20260325T110000
DTEND;TZID=Europe/Madrid:20260325T170000
DTSTAMP:20260419T194009
CREATED:20260227T162342Z
LAST-MODIFIED:20260227T162416Z
UID:10008415-1774436400-1774458000@descubresantander.es
SUMMARY:Exposición Palazuelo\, Rothko\, tú y yo
DESCRIPTION:¿DE QUÉ TRATA “Exposición Palazuelo\, Rothko\, tú y yo”?\n  \n\n\nCuando tienes un bebé toda tu vida cambia\, tienes que adaptarte al nuevo ritmo y durante un tiempo te da la sensación de que ya no podrás volver a hacer aquellas cosas que te gustaban. \nSi una de esas cosas era visitar exposiciones\, hemos creado un plan perfecto para ti y tu bebé en el que recuperar esos momentos de ocio desde otra perspectiva. Un espacio en el que conectar con las obras de arte\, dejar fluir las emociones que estas te provoquen\, compartirlas con personas que están viviendo algo similar y así cambiar tu mirada sobre lo que te rodea\, que es el primer paso para desarrollar tu creatividad.  Una experiencia que transformará la rutina en belleza a través de la contemplación\, el diálogo y el movimiento. Sucederá todo en una hora y será posible gracias a Teresa Torres\, experta en crear acciones para bebés en espacios expositivos y las obras de Palazuelo y Rothko que forman parte de Punto y contrapunto: maestros del siglo XX en la colección de Jaime Botín. Dos obras creadas a base de colores cálidos que no te dejarán indiferente. ¿Te apetece probar? \nTeresa Torres se formó en humanidades y gestión cultural con amplia trayectoria como bailarina profesional de danza clásica y contemporánea. Es fundadora de DADA\, consultoría especializada en inteligencia creativa y pensamiento divergente\, desde la que diseña y desarrolla experiencias formativas para contextos educativos\, culturales y organizacionales integrando creación artística\, educación e innovación cultural. \nHa trabajado en el área educativa del Museo Universidad de Navarra y en el Centro de Investigación y Transferencia Educativa de la Universidad Internacional de La Rioja (UNIR)\, instituciones con las que continúa colaborando a través de DADA. Actualmente trabaja como manager en el Departamento de Innovación Educativa del IESE Business School. \nDuración: 1 hora \nEvento para bebés de entre 0 y 8 meses acompañados de un adulto. Sala 1 \n\n\n  \n¡Disfruta de los “Exposición Palazuelo\, Rothko\, tú y yo”!\nDescubre Cantabria informa de que los diferentes eventos publicados se ofrecen a modo informativo\, no siendo Descubre Cantabria responsable de los problemas o daños causados por erratas o incorrecciones de los mismos.
URL:https://descubresantander.es/evento/exposicion-palazuelo-rothko-tu-y-yo/
LOCATION:Centro Botín\, Muelle de Albareda s/n Jardines de Pereda\, Santander\, Santander\, 39004\, España
CATEGORIES:Exposiciones
ATTACH;FMTTYPE=image/webp:https://descubresantander.es/wp-content/uploads/2026/02/eventos-santander-palazuelo_11zon.webp
END:VEVENT
BEGIN:VEVENT
DTSTART;TZID=Europe/Madrid:20260318T183000
DTEND;TZID=Europe/Madrid:20260318T183000
DTSTAMP:20260419T194009
CREATED:20260227T163100Z
LAST-MODIFIED:20260227T163120Z
UID:10008417-1773858600-1773858600@descubresantander.es
SUMMARY:Visita comentada a la exposición "Itinerarios XXX" con Nader Koochaki
DESCRIPTION:¿DE QUÉ TRATA “Visita comentada a la exposición “Itinerarios XXX” con Nader Koochaki”?\n  \nNader Koochaki (San Sebastián\, 1983) fue seleccionado en la XXX convocatoria de Becas de Arte de la Fundación Botín y presenta en el Centro Botín Las simas\, una instalación que plasma la investigación desarrollada durante la beca\, que ha continuado las investigaciones iniciadas en los últimos doce años en la ladera de una montaña con restos geomineros en el territorio de León.  \nHa visitado la zona\, recopilado documentos\, realizado fotografías y consultado el Inventario Nacional de Balsas y Escombreras (1972-1989)\, lo que le ha permitido aproximarse y construir un relato de la minería diferente al que acostumbramos. \nEn Las simas presenta materiales que ha recopilado a lo largo de sus investigaciones y que permiten trazar una línea de tiempo que reconstruye una historia donde el gesto humano transforma el paisaje industrial. \nCompartiremos en esta visita\, junto a Nader Koochaki\, su proceso de trabajo\, la importancia de rastrear agentes y trazar relaciones. \nDuración: 1 hora \nEvento para jóvenes y adultos \n  \n¡Disfruta de los “Visita comentada a la exposición “Itinerarios XXX” con Nader Koochaki”!\nDescubre Cantabria informa de que los diferentes eventos publicados se ofrecen a modo informativo\, no siendo Descubre Cantabria responsable de los problemas o daños causados por erratas o incorrecciones de los mismos.
URL:https://descubresantander.es/evento/visita-comentada-a-la-exposicion-itinerarios-xxx-con-nader-koochaki/
LOCATION:Centro Botín\, Muelle de Albareda s/n Jardines de Pereda\, Santander\, Santander\, 39004\, España
CATEGORIES:Exposiciones
ATTACH;FMTTYPE=image/webp:https://descubresantander.es/wp-content/uploads/2026/02/eventos-santander-visita-comentada_11zon.webp
END:VEVENT
END:VCALENDAR