BEGIN:VCALENDAR
VERSION:2.0
PRODID:-//Guía Oficial de Santander l Turismo I Descubre Santander - ECPv6.15.20//NONSGML v1.0//EN
CALSCALE:GREGORIAN
METHOD:PUBLISH
X-WR-CALNAME:Guía Oficial de Santander l Turismo I Descubre Santander
X-ORIGINAL-URL:https://descubresantander.es
X-WR-CALDESC:Eventos para Guía Oficial de Santander l Turismo I Descubre Santander
REFRESH-INTERVAL;VALUE=DURATION:PT1H
X-Robots-Tag:noindex
X-PUBLISHED-TTL:PT1H
BEGIN:VTIMEZONE
TZID:Europe/Madrid
BEGIN:DAYLIGHT
TZOFFSETFROM:+0100
TZOFFSETTO:+0200
TZNAME:CEST
DTSTART:20250330T010000
END:DAYLIGHT
BEGIN:STANDARD
TZOFFSETFROM:+0200
TZOFFSETTO:+0100
TZNAME:CET
DTSTART:20251026T010000
END:STANDARD
BEGIN:DAYLIGHT
TZOFFSETFROM:+0100
TZOFFSETTO:+0200
TZNAME:CEST
DTSTART:20260329T010000
END:DAYLIGHT
BEGIN:STANDARD
TZOFFSETFROM:+0200
TZOFFSETTO:+0100
TZNAME:CET
DTSTART:20261025T010000
END:STANDARD
BEGIN:DAYLIGHT
TZOFFSETFROM:+0100
TZOFFSETTO:+0200
TZNAME:CEST
DTSTART:20270328T010000
END:DAYLIGHT
BEGIN:STANDARD
TZOFFSETFROM:+0200
TZOFFSETTO:+0100
TZNAME:CET
DTSTART:20271031T010000
END:STANDARD
END:VTIMEZONE
BEGIN:VEVENT
DTSTART;TZID=Europe/Madrid:20260424T080000
DTEND;TZID=Europe/Madrid:20260424T170000
DTSTAMP:20260424T012633
CREATED:20260121T171921Z
LAST-MODIFIED:20260121T171935Z
UID:10007241-1777017600-1777050000@descubresantander.es
SUMMARY:Representación La revoltosa en Santander
DESCRIPTION:¿DE QUÉ TRATA “Representación La revoltosa en Santander”?\n\n\n\n\n\n\n\n\n\n\n\n  \n‘La Revoltosa’ es una de las obras cumbre de nuestro “género chico”. \nSu preludio es considerado una obra maestra. \nUna zarzuela chispeante y dinámica\, satírica y divertida\, es una de las más representadas en todos los teatros líricos. \nEl libreto es el reflejo de los ambientes vecinales de finales del siglo XIX\, haciendo un retrato de tipos y situaciones que trasladan a la escena todo el sentir de la realidad del Madrid de esos años. \nMari Pepa y Felipe forman parte de nuestro acervo cultural. \n  \n\n\n\n\n\n\n\n\n\n\n\n\n\n\n\n\n\n\n¡Disfruta de los “Representación La revoltosa en Santander”!\nDescubre Cantabria informa de que los diferentes eventos publicados se ofrecen a modo informativo\, no siendo Descubre Cantabria responsable de los problemas o daños causados por erratas o incorrecciones de los mismos.
URL:https://descubresantander.es/evento/representacion-la-revoltosa-en-santander/2026-04-24/
LOCATION:Palacio de Festivales de Cantabria\, Calle Gamazo\, s/n\, Santander\, Cantabria\, 39004\, España
CATEGORIES:Artes escénicas
ATTACH;FMTTYPE=image/webp:https://descubresantander.es/wp-content/uploads/2026/01/eventos-santander-la-revoltosa_11zon.webp
END:VEVENT
BEGIN:VEVENT
DTSTART;TZID=Europe/Madrid:20260424T173000
DTEND;TZID=Europe/Madrid:20260424T173000
DTSTAMP:20260424T012633
CREATED:20251004T130129Z
LAST-MODIFIED:20251004T130204Z
UID:10006843-1777051800-1777051800@descubresantander.es
SUMMARY:Club de Lectura Francés 2025
DESCRIPTION:¿DE QUÉ TRATA “Club de Lectura Francés 2025”?\n  \n\n\n\n\n\n\n\n\n\n\n\nTodos los viernes a las 17.30 h\, el Club de Lectura Francés se reúne en la librería Gil de la Plaza de Pombo. \nModerador: Bénédicte Leblanc. \nMás información y reservas: info@libreriagil.es  \n  \n\n\n\n\n¡Disfruta de los “Club de Lectura Francés 2025”!\nDescubre Santander informa de que los diferentes eventos publicados se ofrecen a modo informativo\, no siendo Descubre Santander responsable de los problemas o daños causados por erratas o incorrecciones de los mismos.
URL:https://descubresantander.es/evento/club-de-lectura-frances-2025/2026-04-24/
LOCATION:Libreria Gil\, Calle Hernán Cortes\,23\, Santander\, Cantabria\, 39003\, España
CATEGORIES:Literatura
ATTACH;FMTTYPE=image/webp:https://descubresantander.es/wp-content/uploads/2025/10/eventos-santander-club-de-lectura-frances-2025_11zon.webp
ORGANIZER;CN="Libreria Gil":MAILTO:info@libreriagil.es
END:VEVENT
BEGIN:VEVENT
DTSTART;TZID=Europe/Madrid:20260424T180000
DTEND;TZID=Europe/Madrid:20260424T180000
DTSTAMP:20260424T012633
CREATED:20260327T151616Z
LAST-MODIFIED:20260327T151631Z
UID:10008681-1777053600-1777053600@descubresantander.es
SUMMARY:Talleres gratuitos de La Noche es Joven (III)
DESCRIPTION:¿DE QUÉ TRATA “Talleres gratuitos de La Noche es Joven (III)”?\n  \nEl Ayuntamiento de Santander pone en marcha una nueva edición de ‘La Noche es Joven’\, el programa municipal de ocio nocturno alternativo que regresa esta primavera con una completa programación de actividades gratuitas dirigidas a jóvenes de entre 15 y 30 años. \nDurante los viernes de abril y principios de mayo\, se ofrecerán 73 sesiones de talleres sin inscripción previa —salvo los de cocina y repostería— en espacios como el pabellón Numancia\, el centro cívico Numancia y Espacio Joven. Las temáticas abarcan desde K-pop\, grafiti y parkour hasta cocina asiática\, repostería y defensa personal. \nVIERNES 24 DE ABRIL \nCocina I “Técnicas y sabores” \nInscripción online a partir de las 10:00 h. del 20 de abril \nHora: 18:00 h. \nLugar: Mercado de la Esperanza  \nNo te olvides: Delantal y paño de cocina \nRepostería I \nInscripción online a partir de las 10:00 h. del 20 de abril  \nHora: 19:30 h. \nLugar: Escuela Las Carolinas \nImparte: Escuela Las Carolinas \nNo te olvides: Delantal y paño de cocina \nSkincare  \nInscripción: Allí mismo\, hasta cubrir aforo.  \nHora: 20:15 h.  \nLugar: CC Numancia     \nArcilla polimétrica  \nInscripción: Allí mismo\, hasta cubrir aforo.  \nHora: 20:30 h.  \nLugar: CC Numancia     \nKrav Maga \nInscripción: Allí mismo\, hasta cubrir aforo. \nHora: 20:30 h. \nLugar: Pabellón polideportivo Numancia    \nDanza clásica \nInscripción: Allí mismo\, hasta cubrir aforo. \nHora: 20:30 h. \nLugar: Espacio Joven    \nCocina II “Técnicas y sabores” \nInscripción online a partir de las 10:00 h. del 20 de abril  \nHora: 20:30 h.  \nLugar: Mercado de la Esperanza    \nNo te olvides: Delantal y paño de cocina \nIniciación al canto  \nInscripción: Allí mismo\, hasta cubrir aforo.  \nHora: 20:45 h.  \nLugar: Pabellón polideportivo Numancia     \nGraffiti y arte mural  \nInscripción: Allí mismo\, hasta cubrir aforo.  \nHora: 21:00 h.  \nLugar: Espacio Joven     \nMurder party  \nInscripción: Allí mismo\, hasta cubrir aforo.  \nHora: 21:00 h.  \nLugar: CC Numancia     \nTiro con arco  \nInscripción: Allí mismo\, hasta cubrir aforo.  \nHora: 21:15 h.  \nLugar: Pabellón polideportivo Numancia    \nNo te olvides: Ropa cómoda y calzado deportivo \nParkour \nInscripción: Allí mismo\, hasta cubrir aforo. \nHora: 21:15 h. \nLugar: Pabellón polideportivo Numancia\n \nNo te olvides: Ropa cómoda y calzado deportivo \nLibro de viaje \nInscripción: Allí mismo\, hasta cubrir aforo.  \nHora: 22:00 h. \nLugar: CC Numancia    \nRepostería II  \nInscripción online a partir de las 10:00 h. del 20 de abril  \nHora: 22:00 h.  \nLugar: Escuela Las Carolinas  \nImparte: Escuela Las Carolinas  \nNo te olvides: Delantal y paño de cocina \nTwerk  \nInscripción: Allí mismo\, hasta cubrir aforo.  \nHora: 22:15 h.  \nLugar: Espacio Joven    \nNo te olvides: Ropa cómoda y calzado deportivo \nBachata  \nInscripción: Allí mismo\, hasta cubrir aforo.  \nHora: 23:00 h.  \nLugar: Pabellón polideportivo Numancia  \nPuedes encontrar todos los eventos en Santander aquí. \n  \n¡Disfruta de los “Talleres gratuitos de La Noche es Joven (III)”!\nDescubre Cantabria informa de que los diferentes eventos publicados se ofrecen a modo informativo\, no siendo Descubre Cantabria responsable de los problemas o daños causados por erratas o incorrecciones de los mismos.
URL:https://descubresantander.es/evento/talleres-gratuitos-de-la-noche-es-joven-iii/
LOCATION:Espacio Joven
CATEGORIES:Formación/Talleres
ATTACH;FMTTYPE=image/webp:https://descubresantander.es/wp-content/uploads/2026/03/eventos-santander-talleres-gratuitos-de-la-noche-es-joven-v_11zon.webp
END:VEVENT
BEGIN:VEVENT
DTSTART;TZID=Europe/Madrid:20260424T180000
DTEND;TZID=Europe/Madrid:20260424T180000
DTSTAMP:20260424T012633
CREATED:20260327T165310Z
LAST-MODIFIED:20260327T165330Z
UID:10008707-1777053600-1777053600@descubresantander.es
SUMMARY:Taller de poesía comentada | Una voz y su eco con Gema Martínez
DESCRIPTION:¿DE QUÉ TRATA “Taller de poesía comentada | Una voz y su eco con Gema Martínez”?\n  \nEn este taller\, la poesía será el camino hacia un lugar de encuentro en el que pensar colectivamente\, conversar y ampliar la experiencia íntima con los textos. \nEn cada sesión\, a través de una selección de poemas de diferentes épocas y geografías\, se buscará la emoción prendida en los versos y se elaborará pensamiento en torno a 3 temáticas concretas: \n\nLibertarias: Emancipación y derechos de las mujeres.\nSupervivientes: Las mujeres en conflictos armados y el deseo de paz.\nAtravesadas: Voces desde los márgenes. Interseccionalidad.\n\nJuntarse para leer poesía\, pensar\, escuchar\, conversar… implica ralentizar las pulsaciones y entregarse a una tarea tan inútil como necesaria\, en un sistema que exige todo lo contrario a cada momento: individualismo\, prisa y productividad. \nFacilitadora: Gema Martínez Crespo. Maestra de Primaria\, coeducadora\, vocalista y compositora en La Mala Hierba\, lectora de poesía\, coleccionista de piedras\, plumas y caracolas. \nActividad dirigida a personas desde 16 a 100 años. \nLas plazas serán limitadas por lo que será necesaria la inscripción previa (lamalahierbahacemaleza@gmail.com )\, pudiendo optar por el taller completo o sesiones sueltas. \nSe facilitará un cuadernillo con los poemas y una breve reseña biográfica de cada autora en cada sesión. \nPrecio 18€ una sesión/ 45€ las tres sesiones \nPuedes encontrar todos los eventos en Santander aquí. \n  \n¡Disfruta de los “Taller de poesía comentada | Una voz y su eco con Gema Martínez”!\nDescubre Cantabria informa de que los diferentes eventos publicados se ofrecen a modo informativo\, no siendo Descubre Cantabria responsable de los problemas o daños causados por erratas o incorrecciones de los mismos.
URL:https://descubresantander.es/evento/taller-de-poesia-comentada-una-voz-y-su-eco-con-gema-martinez/2026-04-24/
LOCATION:Centro Cultural Europeo Eureka\, Calle San Simón\, 8\, Santander\, Cantabria\, 39003\, España
CATEGORIES:Literatura
ATTACH;FMTTYPE=image/webp:https://descubresantander.es/wp-content/uploads/2026/03/eventos-santander-taller-de-poesia-comentada_11zon.webp
END:VEVENT
BEGIN:VEVENT
DTSTART;TZID=Europe/Madrid:20260424T183000
DTEND;TZID=Europe/Madrid:20260424T183000
DTSTAMP:20260424T012633
CREATED:20260327T151426Z
LAST-MODIFIED:20260327T151438Z
UID:10008680-1777055400-1777055400@descubresantander.es
SUMMARY:Fusión Flamenca a ritmos del Norte
DESCRIPTION:¿DE QUÉ TRATA “Fusión Flamenca a ritmos del Norte”?\n  \nNo es la Feria de Abril. Es nuestra versión. Una tarde donde el flamenco se siente más cerca. Donde el vino se sirve despacio. Y el jamón se corta como debe ser: sin prisa. \nFusión Flamenca – Ritmos del Norte. En Pandora\, el viernes 24 de abril a las 18:30h. \nLa entrada incluye: \nCopa de vino\, corte de jamón en directo\, actuación en vivo. \nAforo limitado. \nEntradas ya disponibles en https://livingcantabria.com/  \nPuedes encontrar todos los eventos en Santander aquí. \n  \n¡Disfruta de los “Fusión Flamenca a ritmos del Norte”!\nDescubre Cantabria informa de que los diferentes eventos publicados se ofrecen a modo informativo\, no siendo Descubre Cantabria responsable de los problemas o daños causados por erratas o incorrecciones de los mismos.
URL:https://descubresantander.es/evento/fusion-flamenca-a-ritmos-del-norte/
LOCATION:Pandora Santander\, Calle José Ramón López Dóriga\, 5\, Santander\, Cantabria\, 39003\, España
CATEGORIES:Música
ATTACH;FMTTYPE=image/webp:https://descubresantander.es/wp-content/uploads/2026/03/eventos-santander-fusion-flamenca-ritmos-del-norte_11zon.webp
END:VEVENT
BEGIN:VEVENT
DTSTART;TZID=Europe/Madrid:20260424T190000
DTEND;TZID=Europe/Madrid:20260424T190000
DTSTAMP:20260424T012633
CREATED:20260327T150942Z
LAST-MODIFIED:20260327T150953Z
UID:10008678-1777057200-1777057200@descubresantander.es
SUMMARY:El arte en su contexto: "Ramón Casas\, pintor modernista"
DESCRIPTION:¿DE QUÉ TRATA “El arte en su contexto: “Ramón Casas\, pintor modernista”?\n  \nEl Centro Cultural Doctor Madrazo acoge\, en 2026\, una nueva edición del ciclo “El arte en su contexto”\, a cargo del profesor José Raya Téllez. Serán tres conferencias que tendrán lugar los viernes 20 de marzo\, 24 de abril y 29 de mayo\, a las 19:00 h. La entrada será libre hasta completar el aforo. \n–PROGRAMA– \n► VIERNES. 24 DE ABRIL // 19:00 h.- «Ramón Casas\, pintor modernista» \nRamón Casas fue uno de los más preclaros representantes del modernismo catalán en pintura\, junto con Santiago Rusiñol o Miquel Utrillo. Su obra\, caracterizada por una observación directa de la realidad más inmediata transita por los más variados registros\, desde exquisitos retratos de una mundanidad muy refinada\, hasta los carteles que se encuentran hoy día entre los más conocidos ejemplares de ese nuevo género. \nJosé Raya Téllez es Catedrático de Instituto y Doctor en Historia del Arte\, y su interés por divulgar la cultura le ha llevado a impartir cursos y conferencias de carácter abierto en diversas entidades de ámbito nacional. \nPuedes encontrar todos los eventos en Santander aquí. \n  \n¡Disfruta de los “El arte en su contexto: “Ramón Casas\, pintor modernista”!\nDescubre Cantabria informa de que los diferentes eventos publicados se ofrecen a modo informativo\, no siendo Descubre Cantabria responsable de los problemas o daños causados por erratas o incorrecciones de los mismos.
URL:https://descubresantander.es/evento/el-arte-en-su-contexto-ramon-casas-pintor-modernista/
LOCATION:Centro Cultural Doctor Madrazo\, Calle Casimiro Sainz\, s/n\, Santander\, Santander\, 39004\, España
CATEGORIES:Artes plásticas
ATTACH;FMTTYPE=image/webp:https://descubresantander.es/wp-content/uploads/2026/03/eventos-santander-el-arte-en-su-contexto-ramon_11zon.webp
GEO:43.465059739512;-3.7965417457238
X-APPLE-STRUCTURED-LOCATION;VALUE=URI;X-ADDRESS=Centro Cultural Doctor Madrazo Calle Casimiro Sainz s/n Santander Santander 39004 España;X-APPLE-RADIUS=500;X-TITLE=Calle Casimiro Sainz\, s/n:geo:-3.7965417457238,43.465059739512
END:VEVENT
BEGIN:VEVENT
DTSTART;TZID=Europe/Madrid:20260424T190000
DTEND;TZID=Europe/Madrid:20260424T190000
DTSTAMP:20260424T012633
CREATED:20260327T151153Z
LAST-MODIFIED:20260327T151209Z
UID:10008679-1777057200-1777057200@descubresantander.es
SUMMARY:Concierto El Cantar de las Comadres en Santander
DESCRIPTION:¿DE QUÉ TRATA “Concierto El Cantar de las Comadres en Santander”?\n  \nEl ciclo ‘Folclore en todas las estaciones’ se desarrollará en el centro cívico Juan de Santander a lo largo de todo el año\, organizado desde la Concejalía de Participación Ciudadana y Barrios. \nSe trata de una propuesta cultural y de ocio que tiene como objetivo poner en valor las tradiciones musicales\, dancísticas y populares de Cantabria y acercarlas a la ciudadanía. \nEl 24 de abril tendrá lugar la actuación de El Cantar de las Comadres. Se trata de un grupo de música tradicional formado por tres artistas que comparten su pasión por el folclore popular a través de instrumentos antiguos y canciones con raíces profundas. \nPuedes encontrar todos los eventos en Santander aquí. \n  \n¡Disfruta de los “Concierto Alex Tyché y La Mala Hierba en barco Santander 2026”!\nDescubre Cantabria informa de que los diferentes eventos publicados se ofrecen a modo informativo\, no siendo Descubre Cantabria responsable de los problemas o daños causados por erratas o incorrecciones de los mismos.
URL:https://descubresantander.es/evento/concierto-el-cantar-de-las-comadres-en-santander/
LOCATION:Centro Civico Juan de Santander\, Calle el Recial 25\, Santander\, Cantabria\, 39012\, España
CATEGORIES:Música
ATTACH;FMTTYPE=image/webp:https://descubresantander.es/wp-content/uploads/2026/03/eventos-santander-concierto-el-cantar-de-las-comadres_11zon.webp
END:VEVENT
BEGIN:VEVENT
DTSTART;TZID=Europe/Madrid:20260424T193000
DTEND;TZID=Europe/Madrid:20260424T193000
DTSTAMP:20260424T012633
CREATED:20260327T150801Z
LAST-MODIFIED:20260327T150811Z
UID:10008677-1777059000-1777059000@descubresantander.es
SUMMARY:Comedia | 3 Br3v3s
DESCRIPTION:¿DE QUÉ TRATA “Comedia | 3 Br3v3s”?\n  \nLa Tapicería Teatro presenta una selección de piezas breves unidas por primera vez en una función teatral que te dejará sin palabras. La vida en pareja desde distintos puntos de vista. Situaciones absurdas y quizás tan reales que pueden asustar.  \n“Pareja\, mesa y objeto (pipas)”\, “Hasta que baje el telón” y “Toda la vida (MSLV)” son historias que pueden ser espejos de lo que fuimos\, de lo que somos o tal vez de lo que seremos. Historias donde el silencio y la palabra juegan al límite. \nGénero: Comedia dramática y absurda.  \nFicha artística: \nTexto: Áureo Gómez. \nReparto: Fernando Madrazo y Teresa Argüelles. \nPuedes encontrar todos los eventos en Santander aquí. \n  \n¡Disfruta de los “Comedia | 3 Br3v3s”!\nDescubre Cantabria informa de que los diferentes eventos publicados se ofrecen a modo informativo\, no siendo Descubre Cantabria responsable de los problemas o daños causados por erratas o incorrecciones de los mismos.
URL:https://descubresantander.es/evento/comedia-3-br3v3s/
LOCATION:Escena La Clave\, Calle Miguel Unamuno S/N\, Santander\, Cantabria\, 39010\, España
CATEGORIES:Artes escénicas
ATTACH;FMTTYPE=image/webp:https://descubresantander.es/wp-content/uploads/2026/03/eventos-santander-3br3v3s-comedia_11zon.webp
END:VEVENT
BEGIN:VEVENT
DTSTART;TZID=Europe/Madrid:20260424T203000
DTEND;TZID=Europe/Madrid:20260424T203000
DTSTAMP:20260424T012633
CREATED:20260122T185558Z
LAST-MODIFIED:20260122T185720Z
UID:10007275-1777062600-1777062600@descubresantander.es
SUMMARY:Concierto tributo a U2\, Simple Minds y Despeche Mode
DESCRIPTION:¿DE QUÉ TRATA “Concierto tributo a U2\, Simple Minds y Despeche Mode”?\n  \nMind2mode es el espectáculo tributo definitivo\, inspirado en tres de las bandas de rock de estadio más icónicas y populares: Simple Minds\, U2 y Depeche Mode. En un emocionante show de más de tres horas\, acompañado de impresionantes elementos multimedia y éxitos que abarcan más de cinco décadas de éxitos en las listas\, Mind2mode ofrece el tributo definitivo en tres sets individuales y diferenciados. \nDesde los vestuarios replicados hasta los sonidos y actuaciones auténticas\, la atención al detalle de Mind2mode es asombrosa. Capturan fielmente la esencia\, emoción y dramatismo de cada banda\, gracias a un increíble grupo de músicos provenientes del Reino Unido\, Alemania y los Países Bajos. \nEl impresionante espectáculo 3 en 1 de Mind2mode brinda una solución entretenida y rentable con un gran atractivo internacional. Con ventas combinadas de álbumes que superan los 600 millones de copias\, Simple Minds\, U2 y Depeche Mode siguen escribiendo nuevas canciones y llenando estadios alrededor del mundo\, lo que demuestra el continuo interés por estas bandas y valida el concepto único de Mind2mode . \n  \n¡Disfruta de los “Concierto tributo a U2\, Simple Minds y Despeche Mode”!\nDescubre Cantabria y Descubre Santander informan de que los diferentes eventos publicados se ofrecen a modo informativo\, no siendo Descubre Cantabria y Descubre Santander responsables de los problemas o daños causados por erratas o incorrecciones de los mismos.
URL:https://descubresantander.es/evento/concierto-tributo-a-u2-simple-minds-y-despeche-mode/
LOCATION:Escenario Santander\, Parque de las Llamas\, Santander\, Cantabria\, 39012\, España
CATEGORIES:Música
ATTACH;FMTTYPE=image/webp:https://descubresantander.es/wp-content/uploads/2026/01/eventos-santander-concierto-mind2mode-en-santander_11zon.webp
END:VEVENT
BEGIN:VEVENT
DTSTART;TZID=Europe/Madrid:20260424T203000
DTEND;TZID=Europe/Madrid:20260424T203000
DTSTAMP:20260424T012633
CREATED:20260327T151817Z
LAST-MODIFIED:20260327T151832Z
UID:10008682-1777062600-1777062600@descubresantander.es
SUMMARY:Urban Sketching. Iniciación al dibujo al aire libre
DESCRIPTION:¿DE QUÉ TRATA “Urban Sketching. Iniciación al dibujo al aire libre”?\n  \nTaller monográfico especial de Urban Sketching. Iniciación al dibujo al aire libre Se impartirá los días 24 o 25 de abril. \nTodos los materiales incluidos. \n7 plazas/ taller. \nHorarios: Viernes\, 18 a 20:30 h. Sábados\, 11 a 13:30 h. \nLugar: Escuela Garanza Arte. C/ Valentín Lavín Casalís 8 bajo. Santander (zona Cuatro Caminos). \nInscripción previa: 619 387 500. \nImparte: Beatriz Hoyos\, artista visual y analista plástica\, con 28 años de experiencia docente. \nPuedes encontrar todos los eventos en Santander aquí. \n  \n¡Disfruta de los “Urban Sketching. Iniciación al dibujo al aire libre”!\nDescubre Cantabria informa de que los diferentes eventos publicados se ofrecen a modo informativo\, no siendo Descubre Cantabria responsable de los problemas o daños causados por erratas o incorrecciones de los mismos.
URL:https://descubresantander.es/evento/urban-sketching-iniciacion-al-dibujo-al-aire-libre/
LOCATION:Garanza\, Calle Montejurra 8\, Santander\, Cantabria\, 39010\, España
CATEGORIES:Formación/Talleres
ATTACH;FMTTYPE=image/webp:https://descubresantander.es/wp-content/uploads/2026/03/eventos-santander-urban-sketching_11zon.webp
END:VEVENT
BEGIN:VEVENT
DTSTART;TZID=Europe/Madrid:20260424T213000
DTEND;TZID=Europe/Madrid:20260424T213000
DTSTAMP:20260424T012633
CREATED:20260327T150558Z
LAST-MODIFIED:20260327T150608Z
UID:10008676-1777066200-1777066200@descubresantander.es
SUMMARY:Concierto Linda Burnetti y 14 Cuerdas en Santander
DESCRIPTION:¿DE QUÉ TRATA “Concierto Linda Burnetti y 14 Cuerdas en Santander”?\n  \nLinda Burnetti presenta en una gira nacional por las diferentes salas y festivales de toda España su nuevo álbum “Vuelve a por más”. La banda de blues rock vallisoletana presentará a lo largo del 2026 su nuevo trabajo donde reafirma su sello de calidad y su reivindicación sobre el genero del blues-rock mientras lo fusiona con otros estilos como el funk\, el swing o o el hard rock. \nEn el concierto de Santander\, estarán acompañados por el grupo 14 Cuerdas. \nPuedes encontrar todos los eventos en Santander aquí. \n  \n¡Disfruta de los “Concierto Linda Burnetti y 14 Cuerdas en Santander”!\nDescubre Cantabria informa de que los diferentes eventos publicados se ofrecen a modo informativo\, no siendo Descubre Cantabria responsable de los problemas o daños causados por erratas o incorrecciones de los mismos.
URL:https://descubresantander.es/evento/concierto-linda-burnetti-y-14-cuerdas-en-santander/
LOCATION:Sala Niagara\, Calle San Simón\, 14\, Santander\, Cantabria\, 39003\, España
CATEGORIES:Música
ATTACH;FMTTYPE=image/webp:https://descubresantander.es/wp-content/uploads/2026/03/eventos-santander-concierto-linda-burnetti-y-14-cuerdas_11zon.webp
END:VEVENT
BEGIN:VEVENT
DTSTART;TZID=Europe/Madrid:20260424T223000
DTEND;TZID=Europe/Madrid:20260424T223000
DTSTAMP:20260424T012633
CREATED:20260129T192028Z
LAST-MODIFIED:20260129T192104Z
UID:10007359-1777069800-1777069800@descubresantander.es
SUMMARY:Concierto Lorna Santander 2026
DESCRIPTION:¿DE QUÉ TRATA “Concierto Lorna Santander 2026”?\n  \n\n\n\n\n\n\n\n\n\n\n\n\n\nNo te pierdas Concierto Lorna Santander 2026\, una experiencia única para vivir la música en directo como nunca antes. Energía\, emoción y un ambiente inolvidable te esperan en un evento que marcará la diferencia. Concierto Lorna Santander 2026 es la ocasión perfecta para cantar\, bailar y dejarte llevar. ¡No faltes! \nCompra tus entradas para el Concierto Lorna Santander 2026 en sala Kaya\n\n\n  \n\n\n\n\n¡Disfruta de los “Concierto Lorna Santander 2026”!\nDescubre Cantabria y Descubre Santander informan de que los diferentes eventos publicados se ofrecen a modo informativo\, no siendo Descubre Santander o Descubre Cantabria responsable de los problemas o daños causados por erratas o incorrecciones de los mismos.
URL:https://descubresantander.es/evento/concierto-lorna-santander-2026/
LOCATION:Sala Kaya\, Avenida Nueva Montaña 2\, Santander\, Cantabria\, 39011\, España
CATEGORIES:Música
ATTACH;FMTTYPE=image/webp:https://descubresantander.es/wp-content/uploads/2026/01/eventos-santander-concierto-lorna-santander-2026_11zon.webp
END:VEVENT
END:VCALENDAR