BEGIN:VCALENDAR
VERSION:2.0
PRODID:-//Guía Oficial de Santander l Turismo I Descubre Santander - ECPv6.15.20//NONSGML v1.0//EN
CALSCALE:GREGORIAN
METHOD:PUBLISH
X-WR-CALNAME:Guía Oficial de Santander l Turismo I Descubre Santander
X-ORIGINAL-URL:https://descubresantander.es
X-WR-CALDESC:Eventos para Guía Oficial de Santander l Turismo I Descubre Santander
REFRESH-INTERVAL;VALUE=DURATION:PT1H
X-Robots-Tag:noindex
X-PUBLISHED-TTL:PT1H
BEGIN:VTIMEZONE
TZID:Europe/Madrid
BEGIN:DAYLIGHT
TZOFFSETFROM:+0100
TZOFFSETTO:+0200
TZNAME:CEST
DTSTART:20250330T010000
END:DAYLIGHT
BEGIN:STANDARD
TZOFFSETFROM:+0200
TZOFFSETTO:+0100
TZNAME:CET
DTSTART:20251026T010000
END:STANDARD
BEGIN:DAYLIGHT
TZOFFSETFROM:+0100
TZOFFSETTO:+0200
TZNAME:CEST
DTSTART:20260329T010000
END:DAYLIGHT
BEGIN:STANDARD
TZOFFSETFROM:+0200
TZOFFSETTO:+0100
TZNAME:CET
DTSTART:20261025T010000
END:STANDARD
BEGIN:DAYLIGHT
TZOFFSETFROM:+0100
TZOFFSETTO:+0200
TZNAME:CEST
DTSTART:20270328T010000
END:DAYLIGHT
BEGIN:STANDARD
TZOFFSETFROM:+0200
TZOFFSETTO:+0100
TZNAME:CET
DTSTART:20271031T010000
END:STANDARD
END:VTIMEZONE
BEGIN:VEVENT
DTSTART;TZID=Europe/Madrid:20260421T080000
DTEND;TZID=Europe/Madrid:20260421T170000
DTSTAMP:20260421T015730
CREATED:20251229T153814Z
LAST-MODIFIED:20260126T181110Z
UID:10007306-1776758400-1776790800@descubresantander.es
SUMMARY:Club de Lectura Dramatizada con Miguel Meca
DESCRIPTION:¿DE QUÉ TRATA “Club de Lectura Dramatizada con Miguel Meca”?\n  \n\n\n\n\n\n\n\n\n\n\n\nEscena La Clave acoge este Club de Lectura Dramatizada\, dirigido por Miguel Meca\, que se reunirá los martes de 17:00 a 18:30h\, a partir del 13 de enero. \nSe centrará en el desarrollo de la voz y herramientas actorales para recrear textos de obras elegidas y autores inmortales de manera auténtica y emocionante. Habrá una puesta en escena final ante un público invitado. \nDirigido a jóvenes y adultos que disfruten de la lectura y el teatro. \n  \n\n\n\n\n¡Disfruta de los “Club de Lectura Dramatizada con Miguel Meca”!\nDescubre Santander informa de que los diferentes eventos publicados se ofrecen a modo informativo\, no siendo Descubre Santander responsable de los problemas o daños causados por erratas o incorrecciones de los mismos.
URL:https://descubresantander.es/evento/club-de-lectura-dramatizada-con-miguel-meca/2026-04-21/
LOCATION:Escena La Clave\, Calle Miguel Unamuno S/N\, Santander\, Cantabria\, 39010\, España
CATEGORIES:Artes escénicas,Literatura
ATTACH;FMTTYPE=image/webp:https://descubresantander.es/wp-content/uploads/2025/12/eventos-santander-club-de-lectura-dramatizada_11zon.webp
END:VEVENT
BEGIN:VEVENT
DTSTART;TZID=Europe/Madrid:20260421T160000
DTEND;TZID=Europe/Madrid:20260421T200000
DTSTAMP:20260421T015730
CREATED:20260227T161140Z
LAST-MODIFIED:20260227T161156Z
UID:10008096-1776787200-1776801600@descubresantander.es
SUMMARY:Exposición Yuko Mohri: Entrelazamientos
DESCRIPTION:¿DE QUÉ TRATA “Exposición Yuko Mohri: Entrelazamientos”?\n  \nExposición organizada por la Fundación Botín y Pirelli HangarBicocca (Milán). \nYuko Mohri (Kanagawa\, Japón\, 1980) es conocida por sus composiciones intrincadas y originales\, recientemente presentadas en el Pabellón de Japón de la 60ª Bienal de Venecia (2024). Inspirada en Marcel Duchamp (1887–1968)\, Mohri crea esculturas cinéticas específicas para el espacio expositivo que incorporan objetos encontrados\, así como instrumentos musicales intervenidos y conectados a circuitos electrónicos.  \nSus obras responden a fenómenos imperceptibles\, transitorios y efímeros\, como la gravedad\, el magnetismo\, el calor y la humedad.  \nElementos ambientales aleatorios e inestables —como el aire\, el polvo\, los restos y la temperatura— configuran sus ensamblajes\, transformándolos en ecosistemas orgánicos donde el componente sonoro es central. \nEntralazamientos es\, hasta la fecha\, la exposición individual más extensa de Yuko Mohri en una institución europea.  \nEl título evoca los vínculos invisibles y las complejas interacciones que existen entre objetos\, fuerzas\, sonidos y personas.  \nLa muestra explora cómo cada elemento pertenece a un sistema interconectado en el que nada actúa de manera independiente y todo forma parte de una vasta red de relaciones en constante evolución. \n Las esculturas delicadamente equilibradas de Mohri revelan la complejidad latente de las estructuras naturales y artificiales que constituyen nuestro mundo y el flujo constante de energía que nos rodea.  \nA través de los materiales que emplea\, Mohri introduce una sutil ironía y una dimensión lúdica casi oculta\, recurriendo a referencias culturales que van de la filosofía a la cultura pop\, así como a influencias iconográficas y sonoras que abarcan desde el arte cinético hasta la experimentación sonora. \nLa exposición irá acompañada de un catálogo monográfico\, el más completo publicado hasta la fecha sobre la práctica de la artista japonesa. \nComisarios: Fiammetta Griccioli y Vicente Todolí en Pirelli HangarBicocca y Bárbara Rodríguez Muñoz en el Centro Botín. Sala 2 \n  \n¡Disfruta de los “Exposición Yuko Mohri: Entrelazamientos”!\nDescubre Cantabria informa de que los diferentes eventos publicados se ofrecen a modo informativo\, no siendo Descubre Cantabria responsable de los problemas o daños causados por erratas o incorrecciones de los mismos.
URL:https://descubresantander.es/evento/exposicion-yuko-mohri-entrelazamientos/2026-04-21/
LOCATION:Centro Botín\, Muelle de Albareda s/n Jardines de Pereda\, Santander\, Santander\, 39004\, España
CATEGORIES:Exposiciones
ATTACH;FMTTYPE=image/webp:https://descubresantander.es/wp-content/uploads/2026/02/eventos-santander-exposicion-yuko-mohri_11zon-1.webp
END:VEVENT
BEGIN:VEVENT
DTSTART;TZID=Europe/Madrid:20260421T160000
DTEND;TZID=Europe/Madrid:20260421T200000
DTSTAMP:20260421T015730
CREATED:20260227T161525Z
LAST-MODIFIED:20260227T161554Z
UID:10008231-1776787200-1776801600@descubresantander.es
SUMMARY:Exposición Punto y contrapunto
DESCRIPTION:¿DE QUÉ TRATA “Exposición Punto y contrapunto”?\n  \nLa exposición permanente Punto y contrapunto: maestros del siglo XX en la colección de Jaime Botín presenta una selección de obras de la colección personal de Jaime Botín que sus herederos han confiado generosamente al Centro Botín. Es el corazón del programa expositivo\, ya que contribuye a entender las relaciones intergeneracionales –estéticas\, éticas\, formales– que nos han llevado al arte actual y que siguen construyendo lo que está por venir. \nLa muestra reúne a 14 importantes artistas del siglo xx con obras intensas\, expresivas\, que interactúan en sus contrastes de tonos\, texturas y estilos\, en un reflexivo diálogo visual\, al transmitir sentimientos profundos a pesar de sus heterogéneas estéticas\, lo que favorece su unidad y cohesión con el espectador. \nCuenta con las creaciones de artistas españoles como Manolo Millares\, Pablo Palazuelo y Antoni Tàpies\, cercanas a la abstracción\, bien sea matérica\, expresionista o geométrica; en un contrastado diálogo con el luminismo de Joaquín Sorolla; el cubismo de María Blanchard y Juan Gris; la pintura poética de Joan Miró; la figuración lírica de Pancho Cossío; el realismo de José Gutiérrez Solana; el noucentisme de Isidre Nonell y el neocubismo de Daniel Vázquez Díaz. \nTambién están presentes algunos de los artistas internacionales más significativos del siglo xx que representan la nueva figuración\, como Francis Bacon; el fovismo\, como Henri Matisse; y el expresionismo\, como Mark Rothko. \nTodos ellos pertenecen a dos momentos relevantes de la historia del arte: el tiempo de las vanguardias y el arte de los años posteriores a la Segunda Guerra Mundial. \nSe trata de una pluralidad de prácticas de artistas muy singulares\, que rompieron moldes y cánones de su época y que\, desde su posicionamiento único\, se pudieron conocer\, influir o contradecir. Cada obra coexiste en su incuestionable individualidad con el resto y participa en un proceso colectivo y evolutivo de la historia del arte. \nLos vigorosos puntos\, al igual que los diversos contrapuntos que se perciben en la muestra\, nos acercan a la personalidad de Jaime Botín Sanz de Sautuola y García de los Ríos (1936- 2024). Gran amante de las artes\, con extensos conocimientos en la materia y dotado de una sensibilidad especial\, incluyó en su colección obras que debían cumplir el único requisito de que la pintura en sí misma le interesara y la sintiera cercana. \nMiembro de la Junta Rectora de la Fundación Botín desde su creación en 1965\, y vicepresidente de su patronato desde que este se constituyera en 1996\, las obras que componen esta sala son el mejor testigo del compromiso social y filantrópico de Jaime Botín. \nComisaria: Mª José Salazar. Sala de exposiciones 1 \n  \n¡Disfruta de los “Exposición Punto y contrapunto”!\nDescubre Cantabria informa de que los diferentes eventos publicados se ofrecen a modo informativo\, no siendo Descubre Cantabria responsable de los problemas o daños causados por erratas o incorrecciones de los mismos.
URL:https://descubresantander.es/evento/exposicion-punto-y-contrapunto/2026-04-21/
LOCATION:Centro Botín\, Muelle de Albareda s/n Jardines de Pereda\, Santander\, Santander\, 39004\, España
CATEGORIES:Exposiciones
ATTACH;FMTTYPE=image/webp:https://descubresantander.es/wp-content/uploads/2026/02/eventos-santander-exposicion-punto-y-contrapunto_11zon.webp
END:VEVENT
BEGIN:VEVENT
DTSTART;TZID=Europe/Madrid:20260421T180000
DTEND;TZID=Europe/Madrid:20260421T180000
DTSTAMP:20260421T015730
CREATED:20260327T125716Z
LAST-MODIFIED:20260327T125733Z
UID:10008639-1776794400-1776794400@descubresantander.es
SUMMARY:Taller "La vida oculta de un cuadro" a cargo de Beatriz Hoyos
DESCRIPTION:¿DE QUÉ TRATA “Taller “La vida oculta de un cuadro” a cargo de Beatriz Hoyos”?\n  \nEl centro cultural Fernando Ateca pone en marcha el taller «La vida oculta de un cuadro»\, a cargo de Beatriz Hoyos Sandoval\, de la Escuela Garanza Arte. El objetivo es aprender y desarrollar criterios de comprensión y de análisis técnico y estructural aplicables al estudio de las grandes obras maestras de la historia del arte. \nEl taller consta de tres sesiones\, de dos horas cada una\, que tendrán lugar los martes 14 de abril\, 12 de mayo y 16 de junio\, en horario de 18:00 a 20:00 h. Se trata de una actividad gratuita\, pensada para público adulto y para un máximo de 15 personas. \n*Los interesados en asistir deberán inscribirse llamando al teléfono 942 203 069 del centro cultural. \n–PROGRAMA– \n▶︎ MARTES\, 14 DE ABRIL. De 18:00 a 20:00 h. Grandes artistas del primer Renacimiento italiano. Masaccio \n– Selección de frescos: \n• «La Santísima Trinidad»\, 1425-1428 \n• «La Expulsión del Paraíso»\, 1426-1427 \n• «El Tributo de la Moneda»\, 1427 \n▶︎ MARTES\, 12 DE MAYO. De 18:00 a 20:00 h. La temática de La Anunciación en el Quattrocento italiano \n– Iconografía \n– Las «Reactionem Mariae». Breve estudio comparativo: \n• Fra Angelico\, h. 1425-1426 \n• Leonardo da Vinci\, 1472 \n• Botticelli\, h. 1489 \n▶︎ MARTES\, 16 DE JUNIO. De 18:00 a 20:00 h. Diana y Calisto\, Rubens. Museo del Prado \n– Rubens\, el Homero de la pintura. «Diana y Calisto»\, h. 1635. Museo del Prado \n– «Las Metamorfosis» de Ovidio \n– El mito narrado por Tiziano \n********** \nEsta actividad no se limita a plantear sesiones de historia del arte\, siendo su objetivo principal el de poder sumergirnos en una serie de obras maestras seleccionadas y meternos de lleno en todo el proceso creativo. Se trata de entender las obras y las imágenes\, lo que se ve y lo que no se ve\, el discurso que plantea el artista y su contexto\, el uso de los recursos plásticos\, toda la simbología y la iconografía de la obra\, con el objetivo de poder disfrutar del arte\, no sólo viéndolo\, sino sintiéndolo y entendiéndolo. \nEl ciclo está diseñado y formulado para todo el público adulto en general\, no es necesario poseer conocimientos previos porque se partirá de los conceptos básicos para poco a poco ir desarrollando términos\, técnicas y estructuras. \nBeatriz Hoyos Sandoval (Madrid\, 1968) es artista\, analista plástica y docente. Ha realizado exposiciones individuales y colectivas en diversas instituciones y galerías. Lleva 24 años impartiendo cursos y talleres de dibujo\, pintura y análisis plástico en centros escolares y culturales\, museos\, asociaciones y ayuntamientos de Cantabria\, así como en su propio estudio-taller “Garanza”. \nPuedes encontrar todos los eventos en Santander aquí. \n  \n¡Disfruta de los “Taller “La vida oculta de un cuadro” a cargo de Beatriz Hoyos”!\nDescubre Cantabria informa de que los diferentes eventos publicados se ofrecen a modo informativo\, no siendo Descubre Cantabria responsable de los problemas o daños causados por erratas o incorrecciones de los mismos.
URL:https://descubresantander.es/evento/taller-la-vida-oculta-de-un-cuadro-a-cargo-de-beatriz-hoyos/2026-04-21/
LOCATION:Centro cultural y Biblioteca Fernando Ateca\, Calle Sixto Córdova 3\, Santander\, Cantabria\, 39012\, España
CATEGORIES:Artes plásticas
ATTACH;FMTTYPE=image/webp:https://descubresantander.es/wp-content/uploads/2026/03/eventos-santander-diana-y-calisto-rubens_11zon.webp
END:VEVENT
BEGIN:VEVENT
DTSTART;TZID=Europe/Madrid:20260421T180000
DTEND;TZID=Europe/Madrid:20260421T180000
DTSTAMP:20260421T015730
CREATED:20260327T165558Z
LAST-MODIFIED:20260327T165613Z
UID:10008711-1776794400-1776794400@descubresantander.es
SUMMARY:Taller infantil | Donde habita la memoria
DESCRIPTION:¿DE QUÉ TRATA “Taller infantil | Donde habita la memoria”?\n  \nLa Red de Bibliotecas Municipales de Santander continúa sus actividades de animación a lectura y presenta “Donde habita la memoria\, un taller familiar gratuito\, a partir de 5 años. Un viaje por el tiempo\, un recorrido por la escritura. Plazas limitadas. \nAbril \n\nMartes 14 de abril: Biblioteca de Madrazo\nJueves 16 de abril: Biblioteca Nueva Montaña\nViernes 17 de abril: Biblioteca María Luisa\nMartes 21 de abril: Biblioteca Jado\nJueves 23 de abril: Biblioteca Cazoña\nViernes 24 de abril: Biblioteca Municipal\nMartes 28 de abril: Biblioteca Ateca\nJueves 30 de abril: Biblioteca Cueto\n\nA las 18:00h. Con inscripción previa en cada biblioteca. \nPuedes encontrar todos los eventos en Santander aquí. \n  \n¡Disfruta de los “Taller infantil | Donde habita la memoria”!\nDescubre Cantabria informa de que los diferentes eventos publicados se ofrecen a modo informativo\, no siendo Descubre Cantabria responsable de los problemas o daños causados por erratas o incorrecciones de los mismos.
URL:https://descubresantander.es/evento/taller-infantil-donde-habita-la-memoria/2026-04-21/
LOCATION:Biblioteca Central de Cantabria\, Calle Ruiz de Alda\, 19\, Santander\, Santander\, 39009\, España
CATEGORIES:Formación/Talleres,Infantil
ATTACH;FMTTYPE=image/webp:https://descubresantander.es/wp-content/uploads/2026/03/eventos-santander-taller-familiar-donde-habita-la-memoria_11zon.webp
END:VEVENT
BEGIN:VEVENT
DTSTART;TZID=Europe/Madrid:20260421T183000
DTEND;TZID=Europe/Madrid:20260421T183000
DTSTAMP:20260421T015730
CREATED:20260327T161509Z
LAST-MODIFIED:20260327T161544Z
UID:10008687-1776796200-1776796200@descubresantander.es
SUMMARY:Proyección del documental Mujeres de la Mar y mesa redonda
DESCRIPTION:¿DE QUÉ TRATA “Proyección del documental Mujeres de la Mar y mesa redonda”?\n  \nCon motivo del I Congreso Ibérico de Pesquerías Artesanales organizado por el Instituto Español de Oceanografía (IEO\, CSIC) que se celebrará en Santander entre el 21 y el 23 de abril de 2026\, se proyectarán varios documentales en abierto para todas las personas interesadas.  \nProyección del documental “Mujeres de la Mar” + mesa redonda: Isabel Loureiro (moderadora) + Inma Carrasco (ANMUPESCA Andalucía\, OPP Motril)\, Elvira Morote (OPP Almería)\, Soledad Alonso (representante de la Asociación de Rederas de Bajura de Cantabria (AREBACA) \nEn la costa de Cantabria las mujeres de los pescadores no sólo han esperado a sus hombres en el puerto\, sino que también han jugado un papel muy activo convirtiéndose en el principal pilar de las familias ante la ausencia del padre\, asistiendo al mantenimiento de los barcos (como rederas\, por ejemplo)\, ocupándose de la venta del género en mercados e\, incluso\, recorriendo a pie kilómetros y kilómetros para venderlo por los pueblos. \nPuedes encontrar todos los eventos en Santander aquí. \n  \n¡Disfruta de los “Proyección del documental Mujeres de la Mar y mesa redonda”!\nDescubre Cantabria informa de que los diferentes eventos publicados se ofrecen a modo informativo\, no siendo Descubre Cantabria responsable de los problemas o daños causados por erratas o incorrecciones de los mismos.
URL:https://descubresantander.es/evento/proyeccion-del-documental-mujeres-de-la-mar-y-mesa-redonda/
LOCATION:Ateneo de Santander\, Calle Gómez Oreña\, 5\, Santander\, Cantabria\, 39003\, España
CATEGORIES:Cine/Audiovisual
ATTACH;FMTTYPE=image/webp:https://descubresantander.es/wp-content/uploads/2026/03/eventos-santander-proyeccion-mujeres-de-la-mar_11zon.webp
END:VEVENT
BEGIN:VEVENT
DTSTART;TZID=Europe/Madrid:20260421T190000
DTEND;TZID=Europe/Madrid:20260421T190000
DTSTAMP:20260421T015730
CREATED:20260327T161240Z
LAST-MODIFIED:20260327T161307Z
UID:10008686-1776798000-1776798000@descubresantander.es
SUMMARY:Claves para la pervivencia de una escritora y política pionera por María Francisca Vilches de Frutos
DESCRIPTION:¿DE QUÉ TRATA “Claves para la pervivencia de una escritora y política pionera por María Francisca Vilches de Frutos”?\n  \n“Matilde de la Torre (1864-1946) ochenta años después: claves para la pervivencia de una escritora y política pionera”\, a cargo de María Francisca Vilches de Frutos\, Instituto de Lengua\, Literatura y Antropología (ILLA). \nCon ocasión del LVIII aniversario del fallecimiento de Matilde de la Torre (1884-1946) nacida en Cabezón de la Sal\, Cantabria\, escritora vinculada al Novecentismo y la Edad de Plata\, diputada en Cortes y fundadora de la Academia Torre\, entre otros méritos\, el Aula Interdisciplinar Isabel Torres de Estudios de las Mujeres y del Género y la Fundación Matilde de la Torre\, con el apoyo del Ministerio de Política Territorial y Memoria Democrática\, organizan este ciclo para profundizar en la figura de la escritora y en el entorno histórico en que se desenvolvió. \nLas personas que así lo deseen podrán asegurarse la asistencia\, retirando su entrada\, y evitar así el inconveniente de acercarse al lugar de celebración y encontrar el aforo completo. \nPuedes encontrar todos los eventos en Santander aquí. \n  \n¡Disfruta de los “Claves para la pervivencia de una escritora y política pionera por María Francisca Vilches de Frutos”!\nDescubre Cantabria informa de que los diferentes eventos publicados se ofrecen a modo informativo\, no siendo Descubre Cantabria responsable de los problemas o daños causados por erratas o incorrecciones de los mismos.
URL:https://descubresantander.es/evento/claves-para-la-pervivencia-de-una-escritora-y-politica-pionera-por-maria-francisca-vilches-de-frutos/
LOCATION:Paraninfo de la Universidad de Cantabria\, Calle Sevilla\, 6\, Santander\, Cantabria\, 39002\, España
CATEGORIES:Literatura
ATTACH;FMTTYPE=image/webp:https://descubresantander.es/wp-content/uploads/2026/03/eventos-santander-matilde-de-la-torre-ochenta-anos-despues_11zon.webp
END:VEVENT
BEGIN:VEVENT
DTSTART;TZID=Europe/Madrid:20260421T193000
DTEND;TZID=Europe/Madrid:20260421T193000
DTSTAMP:20260421T015730
CREATED:20260327T161004Z
LAST-MODIFIED:20260327T161022Z
UID:10008685-1776799800-1776799800@descubresantander.es
SUMMARY:Proyección Police de Maurice Pialat en Santander
DESCRIPTION:¿DE QUÉ TRATA “Proyección Police de Maurice Pialat en Santander”?\n  \nPolice. Maurice Pialat. 1985 \nUn policía duro se obsesiona con una joven ligada al mundo criminal. Thriller atípico que subvierte el género al centrarse en la intimidad emocional. Depardieu encarna a un personaje brusco y vulnerable\, atrapado entre el deber\, el deseo y la soledad. 109´ V.O.S.E. \nFicha artística: Gérard Depardieu\, Sophie Marceau. \nCon la colaboración de la Concejalía de Cultura y la Dirección de Cultura del Ayuntamiento de Santander.   \nPuedes encontrar todos los eventos en Santander aquí. \n  \n¡Disfruta de los “Proyección Police de Maurice Pialat en Santander”!\nDescubre Cantabria informa de que los diferentes eventos publicados se ofrecen a modo informativo\, no siendo Descubre Cantabria responsable de los problemas o daños causados por erratas o incorrecciones de los mismos.
URL:https://descubresantander.es/evento/proyeccion-police-de-maurice-pialat-en-santander/
LOCATION:CASYC\, Calle Tantín\, 25\, Santander\, Cantabria\, 39001\, España
CATEGORIES:Cine/Audiovisual
ATTACH;FMTTYPE=image/webp:https://descubresantander.es/wp-content/uploads/2026/03/eventos-santander-proyeccion-police_11zon.webp
ORGANIZER;CN="Fundaci%C3%B3n Caja Cantabria":MAILTO:fcajacantabria@fundacioncajacantabria.es
END:VEVENT
END:VCALENDAR