BEGIN:VCALENDAR
VERSION:2.0
PRODID:-//Guía Oficial de Santander l Turismo I Descubre Santander - ECPv6.15.20//NONSGML v1.0//EN
CALSCALE:GREGORIAN
METHOD:PUBLISH
X-WR-CALNAME:Guía Oficial de Santander l Turismo I Descubre Santander
X-ORIGINAL-URL:https://descubresantander.es
X-WR-CALDESC:Eventos para Guía Oficial de Santander l Turismo I Descubre Santander
REFRESH-INTERVAL;VALUE=DURATION:PT1H
X-Robots-Tag:noindex
X-PUBLISHED-TTL:PT1H
BEGIN:VTIMEZONE
TZID:Europe/Madrid
BEGIN:DAYLIGHT
TZOFFSETFROM:+0100
TZOFFSETTO:+0200
TZNAME:CEST
DTSTART:20250330T010000
END:DAYLIGHT
BEGIN:STANDARD
TZOFFSETFROM:+0200
TZOFFSETTO:+0100
TZNAME:CET
DTSTART:20251026T010000
END:STANDARD
BEGIN:DAYLIGHT
TZOFFSETFROM:+0100
TZOFFSETTO:+0200
TZNAME:CEST
DTSTART:20260329T010000
END:DAYLIGHT
BEGIN:STANDARD
TZOFFSETFROM:+0200
TZOFFSETTO:+0100
TZNAME:CET
DTSTART:20261025T010000
END:STANDARD
BEGIN:DAYLIGHT
TZOFFSETFROM:+0100
TZOFFSETTO:+0200
TZNAME:CEST
DTSTART:20270328T010000
END:DAYLIGHT
BEGIN:STANDARD
TZOFFSETFROM:+0200
TZOFFSETTO:+0100
TZNAME:CET
DTSTART:20271031T010000
END:STANDARD
END:VTIMEZONE
BEGIN:VEVENT
DTSTART;TZID=Europe/Madrid:20260109T170000
DTEND;TZID=Europe/Madrid:20260109T170000
DTSTAMP:20260424T104359
CREATED:20251229T143216Z
LAST-MODIFIED:20251229T143231Z
UID:284253-1767978000-1767978000@descubresantander.es
SUMMARY:Taller de encuadernación japonesa
DESCRIPTION:¿DE QUÉ TRATA “Taller de encuadernación japonesa”?\n  \n\n\n\n\n\n\n\n\n\n\n\nVuelven los talleres de encuadernación en Artpapel Bookstudio de la Calle Cisneros 31 de Santander. Empiezan el 2026 con nuevos talleres para volver a trabajar con nuestras manos y crear libros únicos hechos a medida.  \nEncuadernación Japonesa \nEl 9 de enero tendrá lugar el taller de Encuadernación Japonesa\, en el que los participantes aprenderán técnicas de encuadernación de estilo oriental.  \nDe 17 a 20 horas. \n45 euros\, todos los materiales incluidos.  \n  \n\n\n\n\n¡Disfruta de los “Taller de encuadernación japonesa”!\nDescubre Santander informa de que los diferentes eventos publicados se ofrecen a modo informativo\, no siendo Descubre Santander responsable de los problemas o daños causados por erratas o incorrecciones de los mismos.
URL:https://descubresantander.es/evento/taller-de-encuadernacion-japonesa/
LOCATION:ArtPapel BookStudio\, Calle Cisneros 31\, Santander\, Cantabria\, 39010\, España
CATEGORIES:Formación/Talleres
ATTACH;FMTTYPE=image/webp:https://descubresantander.es/wp-content/uploads/2025/12/eventos-santander-taller-de-encuadernacion-japonesa_11zon.webp
END:VEVENT
END:VCALENDAR