BEGIN:VCALENDAR
VERSION:2.0
PRODID:-//Guía Oficial de Santander l Turismo I Descubre Santander - ECPv6.15.20//NONSGML v1.0//EN
CALSCALE:GREGORIAN
METHOD:PUBLISH
X-WR-CALNAME:Guía Oficial de Santander l Turismo I Descubre Santander
X-ORIGINAL-URL:https://descubresantander.es
X-WR-CALDESC:Eventos para Guía Oficial de Santander l Turismo I Descubre Santander
REFRESH-INTERVAL;VALUE=DURATION:PT1H
X-Robots-Tag:noindex
X-PUBLISHED-TTL:PT1H
BEGIN:VTIMEZONE
TZID:Europe/Madrid
BEGIN:DAYLIGHT
TZOFFSETFROM:+0100
TZOFFSETTO:+0200
TZNAME:CEST
DTSTART:20250330T010000
END:DAYLIGHT
BEGIN:STANDARD
TZOFFSETFROM:+0200
TZOFFSETTO:+0100
TZNAME:CET
DTSTART:20251026T010000
END:STANDARD
BEGIN:DAYLIGHT
TZOFFSETFROM:+0100
TZOFFSETTO:+0200
TZNAME:CEST
DTSTART:20260329T010000
END:DAYLIGHT
BEGIN:STANDARD
TZOFFSETFROM:+0200
TZOFFSETTO:+0100
TZNAME:CET
DTSTART:20261025T010000
END:STANDARD
BEGIN:DAYLIGHT
TZOFFSETFROM:+0100
TZOFFSETTO:+0200
TZNAME:CEST
DTSTART:20270328T010000
END:DAYLIGHT
BEGIN:STANDARD
TZOFFSETFROM:+0200
TZOFFSETTO:+0100
TZNAME:CET
DTSTART:20271031T010000
END:STANDARD
END:VTIMEZONE
BEGIN:VEVENT
DTSTART;TZID=Europe/Madrid:20260305T200000
DTEND;TZID=Europe/Madrid:20260305T200000
DTSTAMP:20260420T171415
CREATED:20260210T130219Z
LAST-MODIFIED:20260210T130247Z
UID:288063-1772740800-1772740800@descubresantander.es
SUMMARY:Representación Frida en Santander 2026
DESCRIPTION:¿DE QUÉ TRATA “Representación Frida en Santander 2026”?\n  \nA las puertas de la conmemoración del 8 de marzo\, Día Internacional de la Mujer\, Escena La Clave recibe a la compañía Makondo Teatro con su aclamado espectáculo “Frida”. Este éxito teatral\, protagonizado por la actriz Mónica Virginia\, nos sumerge en el universo de Frida Kahlo\, una mujer que convirtió el sufrimiento físico en una fortaleza inquebrantable y cuya vida fue un ejercicio constante de libertad y convicción. A través de fragmentos clave\, la puesta en escena recorre su identidad\, su ferviente ideología política\, su complejo amor por Diego Rivera y su profunda relación con la pintura como vía de escape al dolor. \nAmbientada en la mística atmósfera del Día de Muertos y cargada del vibrante colorido de la cultura mexicana\, esta obra es un homenaje a la feminidad y a la lucha por la propia voz\, convirtiéndose en una cita imprescindible para celebrar el legado de una de las figuras más icónicas de la Historia. \n  \n¡Disfruta de los “Representación Frida en Santander 2026”!\nDescubre Cantabria informa de que los diferentes eventos publicados se ofrecen a modo informativo\, no siendo Descubre Cantabria responsable de los problemas o daños causados por erratas o incorrecciones de los mismos.
URL:https://descubresantander.es/evento/representacion-frida-en-santander-2026/
LOCATION:Escena La Clave\, Calle Miguel Unamuno S/N\, Santander\, Cantabria\, 39010\, España
CATEGORIES:Artes escénicas
ATTACH;FMTTYPE=image/webp:https://descubresantander.es/wp-content/uploads/2026/02/eventos-santander-representacion-frida_11zon.webp
END:VEVENT
END:VCALENDAR