BEGIN:VCALENDAR
VERSION:2.0
PRODID:-//Guía Oficial de Santander l Turismo I Descubre Santander - ECPv6.15.20//NONSGML v1.0//EN
CALSCALE:GREGORIAN
METHOD:PUBLISH
X-WR-CALNAME:Guía Oficial de Santander l Turismo I Descubre Santander
X-ORIGINAL-URL:https://descubresantander.es
X-WR-CALDESC:Eventos para Guía Oficial de Santander l Turismo I Descubre Santander
REFRESH-INTERVAL;VALUE=DURATION:PT1H
X-Robots-Tag:noindex
X-PUBLISHED-TTL:PT1H
BEGIN:VTIMEZONE
TZID:Europe/Madrid
BEGIN:DAYLIGHT
TZOFFSETFROM:+0100
TZOFFSETTO:+0200
TZNAME:CEST
DTSTART:20240331T010000
END:DAYLIGHT
BEGIN:STANDARD
TZOFFSETFROM:+0200
TZOFFSETTO:+0100
TZNAME:CET
DTSTART:20241027T010000
END:STANDARD
BEGIN:DAYLIGHT
TZOFFSETFROM:+0100
TZOFFSETTO:+0200
TZNAME:CEST
DTSTART:20250330T010000
END:DAYLIGHT
BEGIN:STANDARD
TZOFFSETFROM:+0200
TZOFFSETTO:+0100
TZNAME:CET
DTSTART:20251026T010000
END:STANDARD
BEGIN:DAYLIGHT
TZOFFSETFROM:+0100
TZOFFSETTO:+0200
TZNAME:CEST
DTSTART:20260329T010000
END:DAYLIGHT
BEGIN:STANDARD
TZOFFSETFROM:+0200
TZOFFSETTO:+0100
TZNAME:CET
DTSTART:20261025T010000
END:STANDARD
END:VTIMEZONE
BEGIN:VEVENT
DTSTART;TZID=Europe/Madrid:20250822T193000
DTEND;TZID=Europe/Madrid:20250822T193000
DTSTAMP:20260424T104414
CREATED:20250731T131018Z
LAST-MODIFIED:20250806T170449Z
UID:267034-1755891000-1755891000@descubresantander.es
SUMMARY:Pinocho de Quásar Teatro
DESCRIPTION:¿DE QUÉ TRATA “Pinocho de Quásar Teatro”?\n  \n\n\n\n\n\n\n\n\n\n\n\nEl Ayuntamiento de Santander presenta “Veranos en Jado”\, una nueva propuesta que se desarrollará durante el mes de agosto en el Parque de Jado con el objetivo de reforzar la vida cultural al aire libre y acercar la creación contemporánea a todos los públicos. \nLa programación se desarrollará durante los cuatro fines de semana de agosto\, los viernes y sábados\, y reunirá un total de ocho propuestas artísticas que apelan a la emoción\, a la creatividad y a la participación activa de los espectadores. Mónica González Megoya\, de Quásar Teatro\, coordina y diseña la programación de esta primera edición. \nEl viernes 22\, la compañía Quásar presentará “Pinocho”\, un concierto-teatro que reinventa el clásico desde el juego escénico y la música en directo.  \nHabía una vez un trozo de madera. Ópera de cámara para clarinete y actriz\, encargo de la Ópera Gürzenich-Orchester Köln. Un espectáculo/concierto creado a partir del cuento de Pinocho\, en el que la palabra y la música son capaces de crear ricos universos imaginarios. \nPúblico familiar. \n  \n\n\n\n\n¡Disfruta de los “Pinocho de Quásar Teatro”!\nDescubre Santander informa de que los diferentes eventos publicados se ofrecen a modo informativo\, no siendo Descubre Santander responsable de los problemas o daños causados por erratas o incorrecciones de los mismos.
URL:https://descubresantander.es/evento/pinocho-de-quasar-teatro/
LOCATION:Parque Salvador Jado\, Paseo General Dávila\, 37\, Santander\, Cantabria\, 39006\, España
CATEGORIES:Infantil
ATTACH;FMTTYPE=image/webp:https://descubresantander.es/wp-content/uploads/2025/07/eventos-santander-pinocho-de-quasar-teatro-se-sube-al-escenario-de-jado_11zon.webp
END:VEVENT
END:VCALENDAR