BEGIN:VCALENDAR
VERSION:2.0
PRODID:-//Guía Oficial de Santander l Turismo I Descubre Santander - ECPv6.15.20//NONSGML v1.0//EN
CALSCALE:GREGORIAN
METHOD:PUBLISH
X-WR-CALNAME:Guía Oficial de Santander l Turismo I Descubre Santander
X-ORIGINAL-URL:https://descubresantander.es
X-WR-CALDESC:Eventos para Guía Oficial de Santander l Turismo I Descubre Santander
REFRESH-INTERVAL;VALUE=DURATION:PT1H
X-Robots-Tag:noindex
X-PUBLISHED-TTL:PT1H
BEGIN:VTIMEZONE
TZID:Europe/Madrid
BEGIN:DAYLIGHT
TZOFFSETFROM:+0100
TZOFFSETTO:+0200
TZNAME:CEST
DTSTART:20240331T010000
END:DAYLIGHT
BEGIN:STANDARD
TZOFFSETFROM:+0200
TZOFFSETTO:+0100
TZNAME:CET
DTSTART:20241027T010000
END:STANDARD
BEGIN:DAYLIGHT
TZOFFSETFROM:+0100
TZOFFSETTO:+0200
TZNAME:CEST
DTSTART:20250330T010000
END:DAYLIGHT
BEGIN:STANDARD
TZOFFSETFROM:+0200
TZOFFSETTO:+0100
TZNAME:CET
DTSTART:20251026T010000
END:STANDARD
BEGIN:DAYLIGHT
TZOFFSETFROM:+0100
TZOFFSETTO:+0200
TZNAME:CEST
DTSTART:20260329T010000
END:DAYLIGHT
BEGIN:STANDARD
TZOFFSETFROM:+0200
TZOFFSETTO:+0100
TZNAME:CET
DTSTART:20261025T010000
END:STANDARD
END:VTIMEZONE
BEGIN:VEVENT
DTSTART;TZID=Europe/Madrid:20250906T180000
DTEND;TZID=Europe/Madrid:20250906T180000
DTSTAMP:20260422T202513
CREATED:20250904T094120Z
LAST-MODIFIED:20250904T094542Z
UID:271042-1757181600-1757181600@descubresantander.es
SUMMARY:El Coloso de Roda pincha sus vinilos en Discos Cucos
DESCRIPTION:¿DE QUÉ TRATA “El Coloso de Roda pincha sus vinilos en Discos Cucos”?\n  \n\n\n\n\n\n\n\n\n\n\n\n\n\nBuscador incansable de gemas del pasado y del presente\, futuros clásicos que gusta compartir con las personas más capaces\, sus exclusivas sesiones contienen muchas horas de escucha previa y también son el resultado de una minuciosa selección de material comprado en tiendas y mercadillos de medio mundo. \nHa editado recopilatorios en Cd y Lp (Pícaros 1\,2\,3 y 4)\, con gran acogida. Ha pinchado en varios festivales e infinidad de fiestas y locales: Jazzaldia\, Festival de Jazz de S. Sebastián\, Lurrazpiko Festa (S. Sebastián)\, Monster Pedal (Madrid)\, Delilah´s (Chicago)\, Bia Bar y Ri-Ra (Dublín)\, Siroco\, Sala El Sol\, El Fabuloso (Madrid)…  \n\n\n  \n\n\n\n\n¡Disfruta de los “El Coloso de Roda pincha sus vinilos en Discos Cucos”!\nDescubre Santander informa de que los diferentes eventos publicados se ofrecen a modo informativo\, no siendo Descubre Santander responsable de los problemas o daños causados por erratas o incorrecciones de los mismos.
URL:https://descubresantander.es/evento/el-coloso-de-roda-pincha-sus-vinilos-en-discos-cucos/
LOCATION:Discos Cucos\, Calle Santa Lucía 41\, Santander\, Cantabria\, 39003\, España
CATEGORIES:Música
ATTACH;FMTTYPE=image/webp:https://descubresantander.es/wp-content/uploads/2025/09/eventos-santander-el-coloso-de-roda-pincha-sus-vinilos-en-discos-cucos_11zon.webp
END:VEVENT
END:VCALENDAR