BEGIN:VCALENDAR
VERSION:2.0
PRODID:-//Guía Oficial de Santander l Turismo I Descubre Santander - ECPv6.15.20//NONSGML v1.0//EN
CALSCALE:GREGORIAN
METHOD:PUBLISH
X-WR-CALNAME:Guía Oficial de Santander l Turismo I Descubre Santander
X-ORIGINAL-URL:https://descubresantander.es
X-WR-CALDESC:Eventos para Guía Oficial de Santander l Turismo I Descubre Santander
REFRESH-INTERVAL;VALUE=DURATION:PT1H
X-Robots-Tag:noindex
X-PUBLISHED-TTL:PT1H
BEGIN:VTIMEZONE
TZID:Europe/Madrid
BEGIN:DAYLIGHT
TZOFFSETFROM:+0100
TZOFFSETTO:+0200
TZNAME:CEST
DTSTART:20240331T010000
END:DAYLIGHT
BEGIN:STANDARD
TZOFFSETFROM:+0200
TZOFFSETTO:+0100
TZNAME:CET
DTSTART:20241027T010000
END:STANDARD
BEGIN:DAYLIGHT
TZOFFSETFROM:+0100
TZOFFSETTO:+0200
TZNAME:CEST
DTSTART:20250330T010000
END:DAYLIGHT
BEGIN:STANDARD
TZOFFSETFROM:+0200
TZOFFSETTO:+0100
TZNAME:CET
DTSTART:20251026T010000
END:STANDARD
BEGIN:DAYLIGHT
TZOFFSETFROM:+0100
TZOFFSETTO:+0200
TZNAME:CEST
DTSTART:20260329T010000
END:DAYLIGHT
BEGIN:STANDARD
TZOFFSETFROM:+0200
TZOFFSETTO:+0100
TZNAME:CET
DTSTART:20261025T010000
END:STANDARD
END:VTIMEZONE
BEGIN:VEVENT
DTSTART;TZID=Europe/Madrid:20250807T180000
DTEND;TZID=Europe/Madrid:20250807T180000
DTSTAMP:20260421T180639
CREATED:20250730T153405Z
LAST-MODIFIED:20250730T153948Z
UID:266770-1754589600-1754589600@descubresantander.es
SUMMARY:Concierto Leiva en Santander 2025
DESCRIPTION:¿DE QUÉ TRATA “Concierto Leiva en Santander 2025”?\n  \n\n\n\n\n\n\n\n\n\n\n\nEl Tour Gigante 2025 de Leiva constará de 30 citas únicas en España\, y se completará con algunos shows por Latinoamérica de los que muy pronto se conocerán más detalles.   \nLeiva se despedía “de la carretera por un tiempito” a finales de diciembre de 2023\, tras casi dos años de gira con un espectáculo audiovisual muy especial que más de medio millón de asistentes pudieron atestiguar. El abrumador éxito del Tour Cuando te muerdes el labio llevó a Leiva a ganar el premio de Mejor Gira en la primera edición de los Premios de la Academia de la Música de España. \nAhora llega el momento de anunciar el regreso de Leiva a los escenarios con el Tour Gigante 2025\, cuyas entradas estarán disponibles a la venta general en leivaentradas.com a partir del miércoles 27 de noviembre a las 12:00 (a las 11:00 en Canarias). Con el fin de facilitar el acceso a la compra de entradas del Tour Gigante 2025 a los más fieles seguidores\, se activará una preventa* de 24 horas. \nEntradas disponibles a la venta general en leivaentradas.com a partir del miércoles 27 de noviembre a las 12:00h. \n  \n\n\n\n\n¡Disfruta de los “Concierto Leiva en Santander 2025”!\nDescubre Santander informa de que los diferentes eventos publicados se ofrecen a modo informativo\, no siendo Descubre Santander responsable de los problemas o daños causados por erratas o incorrecciones de los mismos.
URL:https://descubresantander.es/evento/concierto-leiva-en-santander-2025/
LOCATION:Campa de la Magdalena\, Avenida de la Magdalena\, 0\, Santander\, Cantabria\, 39005\, España
CATEGORIES:Música
ATTACH;FMTTYPE=image/webp:https://descubresantander.es/wp-content/uploads/2025/07/eventos-santander-concierto-leiva-en-santander-2025_11zon.webp
ORGANIZER;CN="Santander Live Producciones SL":MAILTO:info@santandermusic.es
END:VEVENT
END:VCALENDAR